BEGIN:VCALENDAR
VERSION:2.0
PRODID:-//Run Minnesota - ECPv6.15.17//NONSGML v1.0//EN
CALSCALE:GREGORIAN
METHOD:PUBLISH
X-WR-CALNAME:Run Minnesota
X-ORIGINAL-URL:https://run-minnesota.org
X-WR-CALDESC:Events for Run Minnesota
REFRESH-INTERVAL;VALUE=DURATION:PT1H
X-Robots-Tag:noindex
X-PUBLISHED-TTL:PT1H
BEGIN:VTIMEZONE
TZID:America/Chicago
BEGIN:DAYLIGHT
TZOFFSETFROM:-0600
TZOFFSETTO:-0500
TZNAME:CDT
DTSTART:20240310T080000
END:DAYLIGHT
BEGIN:STANDARD
TZOFFSETFROM:-0500
TZOFFSETTO:-0600
TZNAME:CST
DTSTART:20241103T070000
END:STANDARD
BEGIN:DAYLIGHT
TZOFFSETFROM:-0600
TZOFFSETTO:-0500
TZNAME:CDT
DTSTART:20250309T080000
END:DAYLIGHT
BEGIN:STANDARD
TZOFFSETFROM:-0500
TZOFFSETTO:-0600
TZNAME:CST
DTSTART:20251102T070000
END:STANDARD
BEGIN:DAYLIGHT
TZOFFSETFROM:-0600
TZOFFSETTO:-0500
TZNAME:CDT
DTSTART:20260308T080000
END:DAYLIGHT
BEGIN:STANDARD
TZOFFSETFROM:-0500
TZOFFSETTO:-0600
TZNAME:CST
DTSTART:20261101T070000
END:STANDARD
END:VTIMEZONE
BEGIN:VEVENT
DTSTART;TZID=America/Chicago:20250719T080000
DTEND;TZID=America/Chicago:20250719T110000
DTSTAMP:20260420T003909
CREATED:20250321T154009Z
LAST-MODIFIED:20250321T154009Z
UID:10003766-1752912000-1752922800@run-minnesota.org
SUMMARY:Jim Deane Rice Lake Run
DESCRIPTION:Held each year during Maple Grove Days\, this annual 3.7 mile race loops around Rice Lake in Maple Grove. With our affordable entry fee (which includes a t-shirt\, chip timing\, awards and refreshments) this run is one of the best values around!  \nSign up today and help us celebrate several decades of running strong. \nHonoring the Memory of Jim Deane \nWhether he was in the classroom\, on the track or in the council chamber\, Jim Deane had a lifelong passion for building community. A long-time member of the Maple Grove Council\, Deane served as the Mayor of Maple Grove\, was a member of the Maple Grove Park Board and chaired the Three Rivers Park District. \nJim spent his entire career as a teacher and coach at Osseo High School. He made an impact on the lives of so many\, including students\, fellow teachers or other coaches. A runner himself\, Jim was on hand every year to organize the runners\, blast the starting gun\, cheer on the participants and hand out awards. It is the Maple Grove Community Organization’s privilege to honor Jim Deane’s memory by lending his name to this Maple Grove Days tradition.
URL:https://run-minnesota.org/event/jim-deane-rice-lake-run/
LOCATION:Freedom Field
ATTACH;FMTTYPE=image/png:https://run-minnesota.org/wp-content/uploads/2024/11/race129525-logo-0.bI3GkV.png
END:VEVENT
END:VCALENDAR