BEGIN:VCALENDAR
VERSION:2.0
PRODID:-//Run Minnesota - ECPv6.15.17//NONSGML v1.0//EN
CALSCALE:GREGORIAN
METHOD:PUBLISH
X-ORIGINAL-URL:https://run-minnesota.org
X-WR-CALDESC:Events for Run Minnesota
REFRESH-INTERVAL;VALUE=DURATION:PT1H
X-Robots-Tag:noindex
X-PUBLISHED-TTL:PT1H
BEGIN:VTIMEZONE
TZID:UTC
BEGIN:STANDARD
TZOFFSETFROM:+0000
TZOFFSETTO:+0000
TZNAME:UTC
DTSTART:20240101T000000
END:STANDARD
END:VTIMEZONE
BEGIN:VEVENT
DTSTART;TZID=UTC:20250927T070000
DTEND;TZID=UTC:20250927T160000
DTSTAMP:20260424T080413
CREATED:20211027T222309Z
LAST-MODIFIED:20241105T235913Z
UID:10000686-1758956400-1758988800@run-minnesota.org
SUMMARY:We Walk Marathon\, Half\, 10K\, 50K
DESCRIPTION:The event takes place on the Dakota Rail Trail on the SW edge of the Twin Cities\, MN. All distances are on a friendly\, flat\, paved\, course.  Time completion limits are generous\, 7 to 9 hours depending on distance.  We welcome ordinary walkers\, fitness walkers\, power walkers\, Nordic walkers\, race walkers\, full-time wheelers (self-propelled and chairs with pushers)\, walk/runners\, and even full-time slower runners.
URL:https://run-minnesota.org/event/we-walk-marathon-half-10k-50k/
LOCATION:Dakota Rail Regional Trail\, Mayer\, MN\, 306 7th St NE\, Mayer\, MN\, 55360\, United States
CATEGORIES:10K,50K,Half Marathon,Marathon
ORGANIZER;CN="We Walk Marathon%2C Half%2C 10K%2C 50K":MAILTO:Info@wewalkmarathon.com
END:VEVENT
END:VCALENDAR