BEGIN:VCALENDAR
VERSION:2.0
PRODID:-//Run Minnesota - ECPv6.15.17//NONSGML v1.0//EN
CALSCALE:GREGORIAN
METHOD:PUBLISH
X-ORIGINAL-URL:https://run-minnesota.org
X-WR-CALDESC:Events for Run Minnesota
REFRESH-INTERVAL;VALUE=DURATION:PT1H
X-Robots-Tag:noindex
X-PUBLISHED-TTL:PT1H
BEGIN:VTIMEZONE
TZID:America/Chicago
BEGIN:DAYLIGHT
TZOFFSETFROM:-0600
TZOFFSETTO:-0500
TZNAME:CDT
DTSTART:20240310T080000
END:DAYLIGHT
BEGIN:STANDARD
TZOFFSETFROM:-0500
TZOFFSETTO:-0600
TZNAME:CST
DTSTART:20241103T070000
END:STANDARD
BEGIN:DAYLIGHT
TZOFFSETFROM:-0600
TZOFFSETTO:-0500
TZNAME:CDT
DTSTART:20250309T080000
END:DAYLIGHT
BEGIN:STANDARD
TZOFFSETFROM:-0500
TZOFFSETTO:-0600
TZNAME:CST
DTSTART:20251102T070000
END:STANDARD
BEGIN:DAYLIGHT
TZOFFSETFROM:-0600
TZOFFSETTO:-0500
TZNAME:CDT
DTSTART:20260308T080000
END:DAYLIGHT
BEGIN:STANDARD
TZOFFSETFROM:-0500
TZOFFSETTO:-0600
TZNAME:CST
DTSTART:20261101T070000
END:STANDARD
END:VTIMEZONE
BEGIN:VEVENT
DTSTART;TZID=America/Chicago:20251101T080000
DTEND;TZID=America/Chicago:20251101T120000
DTSTAMP:20260424T220115
CREATED:20250321T180745Z
LAST-MODIFIED:20250321T180745Z
UID:10003749-1761984000-1761998400@run-minnesota.org
SUMMARY:Bald Eagle Half Marathon
DESCRIPTION:Catch one more half marathon before the snow flies and run this beautiful\, quiet USAT Certified course around Bald Eagle Lake and the surrounding countryside. The race will take you around the lake before heading out for a couple of miles of country running then returning to the lake to finish at the park. Aid stations every 1.5 miles\, toilets in 4 locations on course. Pancake breakfast for the award ceremony following your run.
URL:https://run-minnesota.org/event/bald-eagle-half-marathon/
LOCATION:Bald Eagle Park Preserve
CATEGORIES:Half Marathon
END:VEVENT
BEGIN:VEVENT
DTSTART;TZID=America/Chicago:20251025T180000
DTEND;TZID=America/Chicago:20251025T200000
DTSTAMP:20260424T220115
CREATED:20250321T180804Z
LAST-MODIFIED:20250321T180804Z
UID:10003748-1761415200-1761422400@run-minnesota.org
SUMMARY:Scare in White Bear
DESCRIPTION:This fun and festive 5k and Fun Run that takes place after the sun sets and is perfect for the competitive athlete as well as kids and the entire family. Run with glow sticks along scenic White Bear Lake on the paved\, Halloween decorated\, and torch-lit path.  Gather on Memorial Beach for the awards ceremony\, kids trick or treating after they are done running the fun run\, the Halloween photo booth and professional FREE! photography.  This is truly a unique racing experience sure to be spooktacular!
URL:https://run-minnesota.org/event/scare-in-white-bear/
LOCATION:West Park\, 2350 11th Street\, White Bear Lake\, MN\, 55110\, United States
CATEGORIES:5K,Kids Run
END:VEVENT
BEGIN:VEVENT
DTSTART;TZID=America/Chicago:20251005T083000
DTEND;TZID=America/Chicago:20251005T110000
DTSTAMP:20260424T220115
CREATED:20250321T180813Z
LAST-MODIFIED:20250321T180813Z
UID:10003747-1759653000-1759662000@run-minnesota.org
SUMMARY:The Great Pumpkin Chase
DESCRIPTION:Join us for this fun and festive 10k\, 5k\, and Fun Run that is perfect for the entire family. Located in one of the metro area’s most beautiful parks\, Lake Elmo Park Reserve\, this natural trail run will help you and your family celebrate the Fall/Autumn season with a post-race community bonfire and pancake breakfast after you have enjoyed a run through the woods. Double up options you run the 10k first\, then the 5k. Awards ceremony follows race.
URL:https://run-minnesota.org/event/the-great-pumpkin-chase/
LOCATION:Lake Elmo Park Reserve\, 1515 Keats Ave\, Lake Elmo\, MN\, 55042\, United States
CATEGORIES:10K,5K,Kids Run
ATTACH;FMTTYPE=image/jpeg:https://run-minnesota.org/wp-content/uploads/2024/10/464136483_1106556138145267_2695336516423408912_n-1.jpg
END:VEVENT
END:VCALENDAR