BEGIN:VCALENDAR
VERSION:2.0
PRODID:-//Run Minnesota - ECPv6.15.17//NONSGML v1.0//EN
CALSCALE:GREGORIAN
METHOD:PUBLISH
X-ORIGINAL-URL:https://run-minnesota.org
X-WR-CALDESC:Events for Run Minnesota
REFRESH-INTERVAL;VALUE=DURATION:PT1H
X-Robots-Tag:noindex
X-PUBLISHED-TTL:PT1H
BEGIN:VTIMEZONE
TZID:UTC
BEGIN:STANDARD
TZOFFSETFROM:+0000
TZOFFSETTO:+0000
TZNAME:UTC
DTSTART:20240101T000000
END:STANDARD
END:VTIMEZONE
BEGIN:VEVENT
DTSTART;TZID=UTC:20250717T183000
DTEND;TZID=UTC:20250717T203000
DTSTAMP:20260424T074031
CREATED:20211030T004621Z
LAST-MODIFIED:20241022T213831Z
UID:10000706-1752777000-1752784200@run-minnesota.org
SUMMARY:Park Point 5-Miler & 2-Mile Walk
DESCRIPTION:Holding the crown as northern Minnesota’s oldest road race\, the Park Point 5-Miler & 2-Mile Walk starts and finishes near the Park Point Pavilion in Duluth\, MN. A picturesque course sandwiched between the open water of Lake Superior and the Duluth Harbor\, this event offers a perfect mid-summer option for runners and walkers alike. \nThe 5-Miler is a more competitive running field but is now preceded by a 2-Mile Walk\, which encourages people of all ages and abilities to come out and enjoy Duluth’s Park Point. \nThis is the last of three races involved in the annual KP Challenge\, in which participants commit to three races throughout the spring and summer. The others are the Saint Fennessy 4K and Fitger’s 5K\, with the aim to help participants keep on a regular training schedule and consistently complete longer distance races. \nNet proceeds from the event go to benefit the Young Athletes Foundation (YAF)\, the nonprofit arm of Grandma’s Marathon focused on helping the area’s youth develop healthy and active lifestyles. Since its inception in 1990\, the YAF has donated more than $1.3 million to youth athletic and nonprofit organizations in a five-county region.
URL:https://run-minnesota.org/event/park-point-5-miler-2-mile-walk-2/
LOCATION:Duluth\, MN
CATEGORIES:2 Mile,5 Mile|8K
ATTACH;FMTTYPE=image/jpeg:https://run-minnesota.org/wp-content/uploads/2021/10/Park-Point-5-Miler-Logo.jpg
ORGANIZER;CN="Grandma's Marathon":MAILTO:grandmas@grandmasmarathon.com
END:VEVENT
BEGIN:VEVENT
DTSTART;TZID=UTC:20250621T060000
DTEND;TZID=UTC:20250621T090000
DTSTAMP:20260424T074031
CREATED:20211006T213917Z
LAST-MODIFIED:20241022T214300Z
UID:10000597-1750485600-1750496400@run-minnesota.org
SUMMARY:Garry Bjorklund Half Marathon
DESCRIPTION:Since its start in 1991\, the Garry Bjorklund Half Marathon has grown into one of the most popular and largest half marathons in the United States. \nNamed a “Runners Choice” event by RaceRaves\, the Garry Bjorklund Half Marathon was voted in 2019 the best 13.1-mile race in the state of Minnesota. With rolling hills and a net downhill elevation\, our racecourse starts north of Duluth\, MN and runs along Scenic Highway 61\, hugging the shores of Lake Superior before taking participants through the heart of downtown Duluth and finishing in historic Canal Park. \nA point-to-point course that offers rolling hills and oftentimes has a tailwind on race day\, the Garry Bjorklund Half Marathon is perfect for rookie and veteran runners alike. Plus\, our race weekend brings one of the nation’s largest expos as well as a traditional pre-race spaghetti feed and one of the best post-race celebrations you’ll find anywhere! \nPricing Structure (In-Person)\nOctober 1-October 15 — $120\nOctober 16-December 31 — $130\nJanuary 1-March 31 — $140\nApril 1-June 1 — $150 \nPricing Structure (Virtual)\nOctober 1-Race Day — $110 \nGrandma’s Marathon weekend is a time the word “impossible” ceases to exist and when more than 20\,000 people become your best supporters and running buddies. So get ready to once again tie up your laces for another year of memories\, miles\, and human might.
URL:https://run-minnesota.org/event/2022-garry-bjorklund-half-marathon/
LOCATION:Duluth\, MN
CATEGORIES:Half Marathon
ORGANIZER;CN="Grandma's Marathon":MAILTO:grandmas@grandmasmarathon.com
END:VEVENT
BEGIN:VEVENT
DTSTART;TZID=UTC:20250620T130000
DTEND;TZID=UTC:20250620T150000
DTSTAMP:20260424T074031
CREATED:20211006T215429Z
LAST-MODIFIED:20241022T220515Z
UID:10000598-1750424400-1750431600@run-minnesota.org
SUMMARY:William A. Irvin 5K
DESCRIPTION:The William A. Irvin 5K started in 1994 and has now become the popular kickoff event to an exciting lineup of races and festivities on Grandma’s Marathon weekend in Duluth\, MN. \nA perfect race for people of all ages and abilities\, the 3.1-mile course was named after the William A. Irvin ore boat located next to the Duluth Entertainment Convention Center (DECC). The course will take you on a tour of Canal Park past some of Duluth’s most iconic landmarks\, including Bayfront Festival Park\, Sister Cities Park\, Gichi-ode Akiing Park\, the Lake Superior Maritime Museum\, the Aerial Lift Bridge\, and the William A. Irvin ore boat museum. \nPricing Structure (In-Person)\nOctober 1-October 15 — $45\nOctober 16-December 31 — $50\nJanuary 1-June 1 — $55 \nPricing Structure (Virtual)\nOctober 1-Race Day — $40
URL:https://run-minnesota.org/event/2022-william-a-irvin-5k/
LOCATION:Duluth\, MN
CATEGORIES:5K
ORGANIZER;CN="Grandma's Marathon":MAILTO:grandmas@grandmasmarathon.com
END:VEVENT
END:VCALENDAR