BEGIN:VCALENDAR
VERSION:2.0
PRODID:-//Run Minnesota - ECPv6.15.17//NONSGML v1.0//EN
CALSCALE:GREGORIAN
METHOD:PUBLISH
X-WR-CALNAME:Run Minnesota
X-ORIGINAL-URL:https://run-minnesota.org
X-WR-CALDESC:Events for Run Minnesota
REFRESH-INTERVAL;VALUE=DURATION:PT1H
X-Robots-Tag:noindex
X-PUBLISHED-TTL:PT1H
BEGIN:VTIMEZONE
TZID:America/Chicago
BEGIN:DAYLIGHT
TZOFFSETFROM:-0600
TZOFFSETTO:-0500
TZNAME:CDT
DTSTART:20240310T080000
END:DAYLIGHT
BEGIN:STANDARD
TZOFFSETFROM:-0500
TZOFFSETTO:-0600
TZNAME:CST
DTSTART:20241103T070000
END:STANDARD
BEGIN:DAYLIGHT
TZOFFSETFROM:-0600
TZOFFSETTO:-0500
TZNAME:CDT
DTSTART:20250309T080000
END:DAYLIGHT
BEGIN:STANDARD
TZOFFSETFROM:-0500
TZOFFSETTO:-0600
TZNAME:CST
DTSTART:20251102T070000
END:STANDARD
BEGIN:DAYLIGHT
TZOFFSETFROM:-0600
TZOFFSETTO:-0500
TZNAME:CDT
DTSTART:20260308T080000
END:DAYLIGHT
BEGIN:STANDARD
TZOFFSETFROM:-0500
TZOFFSETTO:-0600
TZNAME:CST
DTSTART:20261101T070000
END:STANDARD
END:VTIMEZONE
BEGIN:VEVENT
DTSTART;TZID=America/Chicago:20250920T100000
DTEND;TZID=America/Chicago:20250920T120000
DTSTAMP:20260425T153037
CREATED:20241014T221609Z
LAST-MODIFIED:20241014T221609Z
UID:10003721-1758362400-1758369600@run-minnesota.org
SUMMARY:Runnin In The Ruff
DESCRIPTION:The annual Runnin’ in the Ruff is a long-standing annual trail run that follows strikingly scenic trails over hills & ridges along the picturesque Rum River. There are two distances: a 2 mile run/walk and a 10k.  The 2 mile is a relatively flat double wide dirt trail that is fun for the elite runner as well as safe for a whole family to run/walk.  The 10k starts is a slightly more challenging course which includes some hills\, flat double wide trail as well as some single track trail.  Both courses will be prepped and a lot of fun. \nWhether you are a hardcore runner and are in it for the race\, or simply want to be part of the event and enjoy what the Milaca Trails has to offer\, you are welcome to join.
URL:https://run-minnesota.org/event/runnin-in-the-ruff-2/
LOCATION:Rec Park Milaca\, MN
CATEGORIES:10K,2 Mile,Multicourse,Trail
ATTACH;FMTTYPE=image/jpeg:https://run-minnesota.org/wp-content/uploads/2024/10/10k-Pic-5.jpg
END:VEVENT
END:VCALENDAR