BEGIN:VCALENDAR
VERSION:2.0
PRODID:-//Run Minnesota - ECPv6.15.17//NONSGML v1.0//EN
CALSCALE:GREGORIAN
METHOD:PUBLISH
X-ORIGINAL-URL:https://run-minnesota.org
X-WR-CALDESC:Events for Run Minnesota
REFRESH-INTERVAL;VALUE=DURATION:PT1H
X-Robots-Tag:noindex
X-PUBLISHED-TTL:PT1H
BEGIN:VTIMEZONE
TZID:America/Chicago
BEGIN:DAYLIGHT
TZOFFSETFROM:-0600
TZOFFSETTO:-0500
TZNAME:CDT
DTSTART:20240310T080000
END:DAYLIGHT
BEGIN:STANDARD
TZOFFSETFROM:-0500
TZOFFSETTO:-0600
TZNAME:CST
DTSTART:20241103T070000
END:STANDARD
BEGIN:DAYLIGHT
TZOFFSETFROM:-0600
TZOFFSETTO:-0500
TZNAME:CDT
DTSTART:20250309T080000
END:DAYLIGHT
BEGIN:STANDARD
TZOFFSETFROM:-0500
TZOFFSETTO:-0600
TZNAME:CST
DTSTART:20251102T070000
END:STANDARD
BEGIN:DAYLIGHT
TZOFFSETFROM:-0600
TZOFFSETTO:-0500
TZNAME:CDT
DTSTART:20260308T080000
END:DAYLIGHT
BEGIN:STANDARD
TZOFFSETFROM:-0500
TZOFFSETTO:-0600
TZNAME:CST
DTSTART:20261101T070000
END:STANDARD
END:VTIMEZONE
BEGIN:VEVENT
DTSTART;TZID=America/Chicago:20251102T060000
DTEND;TZID=America/Chicago:20251102T160000
DTSTAMP:20260424T081820
CREATED:20231028T193403Z
LAST-MODIFIED:20241030T005934Z
UID:10001544-1762063200-1762099200@run-minnesota.org
SUMMARY:Icebox 240 and 480
DESCRIPTION:Get ready to test your endurance at the Icebox event\, a timed challenge that allows you to accumulate as many miles as possible on a beautiful single-track course (5ish miles per loop) before time runs out. Choose between a 4-hour or 8-hour challenge and start anytime between 6:00 am and 8:00 am.  \nIn the race’s final hour\, you can tackle a 1-mile loop (1.05\, actually) to push yourself even further. This event is an excellent opportunity to test stamina and explore the park’s beautiful trails. Whether you’re a seasoned runner or new to the sport\, we hope you’ll join us for the Icebox challenge.
URL:https://run-minnesota.org/event/icebox-240-and-480/
LOCATION:Whitetail Ridge\, 800 Whitetail Blvd.\, River Falls\, WI\, 54016\, United States
CATEGORIES:Ultra
ATTACH;FMTTYPE=image/jpeg:https://run-minnesota.org/wp-content/uploads/2023/10/IMG_1210.jpeg
END:VEVENT
BEGIN:VEVENT
DTSTART;TZID=America/Chicago:20251011T080000
DTEND;TZID=America/Chicago:20251011T170000
DTSTAMP:20260424T081820
CREATED:20250327T120640Z
LAST-MODIFIED:20250327T120640Z
UID:10003859-1760169600-1760202000@run-minnesota.org
SUMMARY:Break the Bank - 50 Mile (Solo or Relay)
DESCRIPTION:Brought to you by \, the on-demand app which safely connects athletes with personalized training guides\, the Break The Bank 50 Miler will lead runners along the scenic Willard Munger Trail from Sturgeon Lake\, Minnesota to Duluth\, Minnesota. Athletes will be treated to the trail’s natural beauty\, including lush forests and picturesque lakes\, culminating in a rewarding downhill finish over the last 10 miles.This event offers a unique opportunity for runners to challenge their endurance while immersing themselves in Minnesota’s breathtaking landscapes. \nThis race is specifically designed by ultrarunners to provide competitors with the perfect combination of speed and beauty. Enjoy the splendid forests\, bridges\, and craggy rocks of the terrain carved out by the last ice age\, while never needing to worry about your footing.\nSpots are limited—secure your place at the starting line and experience Minnesota’s most scenic ultra! \nCOURSE MAP\n\nSTART – 91818 Brandt Rd\, Strugeon Lake\, MN 55783\nFINISH – 1106 88th Ave W\, Duluth\, MN\, 55808. The finish will right next to be an actual bank built in 1918 which has been converted into home and\, for the purposes of this day\, the HQ and finish of the race. \nApproximately 43 miles of this point-to-point race will be run on the incredible Willard Munger Trail. The course is nearly flat (we really mean it) for the first 40 miles. There is a big downhill finish featuring a 500 foot drop over the last 10 miles. This elevation change is just enough to make you feel like you are having the best day of your life without crushing your quads at the end. Finally\, you finish in the shadow of the Bank House where vendors\, entertainers\, food and drink will be enjoyed by all. \nRELAY TEAMS\nThere will be four (4) exchange zones for a total of five (5) running legs. \nDistances for each leg of the Relay are as such: \nLeg 1: 6.9 miles\nLeg 2: 5.4 miles\nLeg 3: 11.8 miles\nLeg 4: 11.5 miles\nLeg 5: 14.4 miles \nExchange Zones are as follows: \nThe First Relay Exchange (6.9 miles) will be at the Sturgeon Lake trailhead to the Munger Trail HERE. \nThe Second Relay Exchange (12.3 miles) will be in Moose Lake HERE. \nThe Third Relay Exchange (23.7 miles) will be at the Mahtowa trailhead to the Munger Trail HERE. \nThe Fourth Relay Exchange (35.6 miles) will be at the Carlton trailhead to the Munger Trail HERE. \nRelay teams are responsible for transportation to exchange points. Each team will receive one key to the safety deposit box at the finish. \nPRIZE MONEY\nBreak the Bank is excited to offer the following:\n$5000 to any individual who sets a new the 50-mile American best for their gender. That’s right\, $5\,000!\nMen’s 50 mile record is 4:48:21 set by Charlie Lawrence in 2024 at the Tunnel Hill 50.\nWomen’s 50 mile record is 5:31:56 set by Courtney Olsen in 2024 at the Tunnel Hill 50.\nFor the first\, second\, and third place finishers in the open and masters division\, each will will receive:\n$300 for first place\n$200 for second place\n$100 for third place \nNo doubling up on the prize money. We are here to spread the wealth! \nRACE SWAG\nIn additional to fantastic race medals and race shirt\, every finisher will choose a random key to a safety deposit box inside the bank at the finish line. Inside the safety deposit boxes will be prizes ranging from $5 to (at least) $500\, with other awards as well. Finish the race and you get a key!
URL:https://run-minnesota.org/event/break-the-bank-50-mile-solo-or-relay/
CATEGORIES:Trail,Ultra
END:VEVENT
BEGIN:VEVENT
DTSTART;TZID=America/Chicago:20250809T060000
DTEND;TZID=America/Chicago:20250809T160000
DTSTAMP:20260424T081820
CREATED:20250321T153537Z
LAST-MODIFIED:20250321T153537Z
UID:10003850-1754719200-1754755200@run-minnesota.org
SUMMARY:Baby Backyard ULTRA 5K – 50K
DESCRIPTION:A fundraising fun run where a 5K is kicked off every hour\, for 10 hours!\nhttps://humanraceinc.org/baby-backyard-5k-50k-ultra\nRunners can do a 5K for an official finish\, and we will be there to support each individual’s goals\, no matter how far they plan to go!\nThe course is on turf and will be open and maintained for 10 hours. So\, runners are welcome to run as much or as little as they choose.\nSome run the 5K every hour and walk away with an Ultramarathon finish. Some run a few laps and call it a day\, relax with fellow runners\, and spend some time crewing…or just hanging out and having fun!\nThere are no hard cutoff times\, except for the end of the event. Come out\, run\, and join the party!\nFor the real hardcore limit seekers\, we welcome those that would like to continuously take down laps for the entire 10 hours. (Course record is 48 miles!)\nAll race registrations are donated to the Kids Cancer Fund at Children’s Minnesota. Every single penny.\nWe’d love to see you there! Go Big!!!
URL:https://run-minnesota.org/event/baby-backyard-ultra-5k-50k/
CATEGORIES:50K,5K,Trail,Ultra
END:VEVENT
BEGIN:VEVENT
DTSTART;TZID=America/Chicago:20250601T080000
DTEND;TZID=America/Chicago:20250602T080000
DTSTAMP:20260424T081820
CREATED:20250321T153753Z
LAST-MODIFIED:20250513T193745Z
UID:10003813-1748764800-1748851200@run-minnesota.org
SUMMARY:FANS Ultra Races 6\, 12 or 24 Hours
DESCRIPTION:FANS Ultra Races are a little different from your ordinary race. The fast people and the slow people all start and finish at the same time at FANS. How can we do that? By offering a time-based race rather than a distance-based race. At FANS\, you select from 6-hours\, 12-hours\, or 24-hours. It provides a great opportunity to dip your toes into ultra running or to hone the ultra skills you already possess. The race is staffed with wonderful volunteers and the aid station food is wonderful. We hope you can join us in 2025!
URL:https://run-minnesota.org/event/fans-ultra-races-6-12-or-24-hours/
CATEGORIES:Ultra
END:VEVENT
END:VCALENDAR