BEGIN:VCALENDAR
VERSION:2.0
PRODID:-//Run Minnesota - ECPv6.15.17//NONSGML v1.0//EN
CALSCALE:GREGORIAN
METHOD:PUBLISH
X-ORIGINAL-URL:https://run-minnesota.org
X-WR-CALDESC:Events for Run Minnesota
REFRESH-INTERVAL;VALUE=DURATION:PT1H
X-Robots-Tag:noindex
X-PUBLISHED-TTL:PT1H
BEGIN:VTIMEZONE
TZID:America/Chicago
BEGIN:DAYLIGHT
TZOFFSETFROM:-0600
TZOFFSETTO:-0500
TZNAME:CDT
DTSTART:20230312T080000
END:DAYLIGHT
BEGIN:STANDARD
TZOFFSETFROM:-0500
TZOFFSETTO:-0600
TZNAME:CST
DTSTART:20231105T070000
END:STANDARD
BEGIN:DAYLIGHT
TZOFFSETFROM:-0600
TZOFFSETTO:-0500
TZNAME:CDT
DTSTART:20240310T080000
END:DAYLIGHT
BEGIN:STANDARD
TZOFFSETFROM:-0500
TZOFFSETTO:-0600
TZNAME:CST
DTSTART:20241103T070000
END:STANDARD
BEGIN:DAYLIGHT
TZOFFSETFROM:-0600
TZOFFSETTO:-0500
TZNAME:CDT
DTSTART:20250309T080000
END:DAYLIGHT
BEGIN:STANDARD
TZOFFSETFROM:-0500
TZOFFSETTO:-0600
TZNAME:CST
DTSTART:20251102T070000
END:STANDARD
BEGIN:DAYLIGHT
TZOFFSETFROM:-0600
TZOFFSETTO:-0500
TZNAME:CDT
DTSTART:20260308T080000
END:DAYLIGHT
BEGIN:STANDARD
TZOFFSETFROM:-0500
TZOFFSETTO:-0600
TZNAME:CST
DTSTART:20261101T070000
END:STANDARD
END:VTIMEZONE
BEGIN:VTIMEZONE
TZID:America/Denver
BEGIN:DAYLIGHT
TZOFFSETFROM:-0700
TZOFFSETTO:-0600
TZNAME:MDT
DTSTART:20240310T090000
END:DAYLIGHT
BEGIN:STANDARD
TZOFFSETFROM:-0600
TZOFFSETTO:-0700
TZNAME:MST
DTSTART:20241103T080000
END:STANDARD
BEGIN:DAYLIGHT
TZOFFSETFROM:-0700
TZOFFSETTO:-0600
TZNAME:MDT
DTSTART:20250309T090000
END:DAYLIGHT
BEGIN:STANDARD
TZOFFSETFROM:-0600
TZOFFSETTO:-0700
TZNAME:MST
DTSTART:20251102T080000
END:STANDARD
BEGIN:DAYLIGHT
TZOFFSETFROM:-0700
TZOFFSETTO:-0600
TZNAME:MDT
DTSTART:20260308T090000
END:DAYLIGHT
BEGIN:STANDARD
TZOFFSETFROM:-0600
TZOFFSETTO:-0700
TZNAME:MST
DTSTART:20261101T080000
END:STANDARD
END:VTIMEZONE
BEGIN:VEVENT
DTSTART;TZID=America/Chicago:20250701T080000
DTEND;TZID=America/Chicago:20250701T170000
DTSTAMP:20260424T222056
CREATED:20250513T191313Z
LAST-MODIFIED:20250513T191313Z
UID:10003900-1751356800-1751389200@run-minnesota.org
SUMMARY:Rochester Running Club All-Comers' Track Meets
DESCRIPTION:Meets are FREE for kids 2-15+ years old and open to the public. Para-athlete/wheelchair inclusion – independent or parent assisted are encouraged to participate. \n2025 Dates: June 3rd\, June 10th\, June 17th\, July 1st\, July 8th\, July 15th\nTime: 6:00 PM\nLocation: Soldiers Memorial Field Track\, 244 Soldiers Field Dr. SW\, Rochester MN \nKids are welcome to participate in as many sprints/races and field events as they’d like. One purple participation ribbon is awarded to each participant per evening. First\, second\, and third place ribbons are given in each heat and overall for each age group in the long jump.
URL:https://run-minnesota.org/event/rochester-running-club-all-comers-track-meets/
CATEGORIES:Kids Run
END:VEVENT
BEGIN:VEVENT
DTSTART;TZID=America/Chicago:20250621T150000
DTEND;TZID=America/Chicago:20250621T160000
DTSTAMP:20260424T222056
CREATED:20231005T153435Z
LAST-MODIFIED:20241022T214501Z
UID:10001459-1750518000-1750521600@run-minnesota.org
SUMMARY:Whipper Snapper Races for Kids
DESCRIPTION:Grandma’s Marathon weekend shouldn’t be just for the adults\, so be sure to bring the kids to Bayfront Festival Park for their very own race complete with finisher medals! Bring them out to Bayfront Festival Park on Friday afternoon on race weekend\, and let them join hundreds of other children to get their running fix. \nThese FREE fun\, short-distance races are open to ages 14 and under. They are the perfect way to introduce kids to running or to keep the fire burning bright for your future marathon finisher. You just may have a Grandma’s Marathon champion of the future on your hands! \nAGE GROUPS & DISTANCES\n4 Years Old & Younger — 1/8 Mile\n5 & 6 Years Old — 1/8 Mile\n7 & 8 Years Old — 1/4 Mile\n9 & 10 Years Old — 1/4 Mile\n11 & 12 Years Old — 1/2 Mile\n13 & 14 Years Old — 1/2 Mile
URL:https://run-minnesota.org/event/whipper-snapper-races-for-kids/
CATEGORIES:Kids Run
END:VEVENT
BEGIN:VEVENT
DTSTART;TZID=America/Chicago:20250617T080000
DTEND;TZID=America/Chicago:20250617T170000
DTSTAMP:20260424T222056
CREATED:20250513T191313Z
LAST-MODIFIED:20250513T191313Z
UID:10003899-1750147200-1750179600@run-minnesota.org
SUMMARY:Rochester Running Club All-Comers' Track Meets
DESCRIPTION:Meets are FREE for kids 2-15+ years old and open to the public. Para-athlete/wheelchair inclusion – independent or parent assisted are encouraged to participate. \n2025 Dates: June 3rd\, June 10th\, June 17th\, July 1st\, July 8th\, July 15th\nTime: 6:00 PM\nLocation: Soldiers Memorial Field Track\, 244 Soldiers Field Dr. SW\, Rochester MN \nKids are welcome to participate in as many sprints/races and field events as they’d like. One purple participation ribbon is awarded to each participant per evening. First\, second\, and third place ribbons are given in each heat and overall for each age group in the long jump.
URL:https://run-minnesota.org/event/rochester-running-club-all-comers-track-meets/
CATEGORIES:Kids Run
END:VEVENT
BEGIN:VEVENT
DTSTART;TZID=America/Chicago:20250610T080000
DTEND;TZID=America/Chicago:20250610T170000
DTSTAMP:20260424T222056
CREATED:20250513T191313Z
LAST-MODIFIED:20250513T191313Z
UID:10003898-1749542400-1749574800@run-minnesota.org
SUMMARY:Rochester Running Club All-Comers' Track Meets
DESCRIPTION:Meets are FREE for kids 2-15+ years old and open to the public. Para-athlete/wheelchair inclusion – independent or parent assisted are encouraged to participate. \n2025 Dates: June 3rd\, June 10th\, June 17th\, July 1st\, July 8th\, July 15th\nTime: 6:00 PM\nLocation: Soldiers Memorial Field Track\, 244 Soldiers Field Dr. SW\, Rochester MN \nKids are welcome to participate in as many sprints/races and field events as they’d like. One purple participation ribbon is awarded to each participant per evening. First\, second\, and third place ribbons are given in each heat and overall for each age group in the long jump.
URL:https://run-minnesota.org/event/rochester-running-club-all-comers-track-meets/
CATEGORIES:Kids Run
END:VEVENT
BEGIN:VEVENT
DTSTART;TZID=America/Chicago:20250603T080000
DTEND;TZID=America/Chicago:20250603T170000
DTSTAMP:20260424T222056
CREATED:20250513T191313Z
LAST-MODIFIED:20250513T191313Z
UID:10003897-1748937600-1748970000@run-minnesota.org
SUMMARY:Rochester Running Club All-Comers' Track Meets
DESCRIPTION:Meets are FREE for kids 2-15+ years old and open to the public. Para-athlete/wheelchair inclusion – independent or parent assisted are encouraged to participate. \n2025 Dates: June 3rd\, June 10th\, June 17th\, July 1st\, July 8th\, July 15th\nTime: 6:00 PM\nLocation: Soldiers Memorial Field Track\, 244 Soldiers Field Dr. SW\, Rochester MN \nKids are welcome to participate in as many sprints/races and field events as they’d like. One purple participation ribbon is awarded to each participant per evening. First\, second\, and third place ribbons are given in each heat and overall for each age group in the long jump.
URL:https://run-minnesota.org/event/rochester-running-club-all-comers-track-meets/
CATEGORIES:Kids Run
END:VEVENT
BEGIN:VEVENT
DTSTART;TZID=America/Denver:20250601T080000
DTEND;TZID=America/Denver:20250601T150000
DTSTAMP:20260424T222056
CREATED:20211012T232202Z
LAST-MODIFIED:20241107T222011Z
UID:10000616-1748764800-1748790000@run-minnesota.org
SUMMARY:Deadwood Mickelson Trail Marathon\, Half Marathon\, 5 Person Marathon Relay\, 5K and Kids 1K
DESCRIPTION:Marathon\, Half Marathon\, 5 Person Marathon Relay\, 5K and Kids 1K.\n26.2 Miles of Black Hills Beauty! The Marathon is a point to point course\, beginning in the old mining town of Rochford; home of the MoonShine Gulch Saloon\, the Mall of America\, and the University of Rochford. After a quick run through town\, you find yourself on the George Mickelson Trail and on your way to Deadwood. The Half Marathon starts on the trail\, 13.1 miles from Rochford. The Finish Line for both events is the Deadwood Trailhead.
URL:https://run-minnesota.org/event/deadwood-mickelson-trail-marathon-half-marathon-5-person-marathon-relay-5k-and-kids-1k-2/
LOCATION:Deadwood SD
CATEGORIES:5 Mile|8K,5K,Half Marathon,Kids Run,Marathon
ATTACH;FMTTYPE=image/jpeg:https://run-minnesota.org/wp-content/uploads/2021/10/at-outcrop.jpg
END:VEVENT
BEGIN:VEVENT
DTSTART;TZID=America/Chicago:20250531T073000
DTEND;TZID=America/Chicago:20250531T120000
DTSTAMP:20260424T222056
CREATED:20250321T153929Z
LAST-MODIFIED:20250321T153929Z
UID:10003776-1748676600-1748692800@run-minnesota.org
SUMMARY:Human Powered Health Run
DESCRIPTION:Mark your calendar for May 31\, 2025\, and run in St. Paul on a beautiful route along the Mississippi River. Select the distance that is right for you. There is a race for everyone whether this is your first 5K or you are training for a marathon\, including a skate race. Use our training plans to help you achieve your goals. Run your best in 2025!
URL:https://run-minnesota.org/event/human-powered-health-run/
CATEGORIES:10 Mile,11 Mile,5 Mile,5K,Half Marathon,Kids Run
END:VEVENT
BEGIN:VEVENT
DTSTART;TZID=America/Chicago:20250531T073000
DTEND;TZID=America/Chicago:20250531T110000
DTSTAMP:20260424T222056
CREATED:20250420T111106Z
LAST-MODIFIED:20250420T111106Z
UID:10003872-1748676600-1748689200@run-minnesota.org
SUMMARY:Human Powered Health Half Marathon
DESCRIPTION:Mark your calendars on May 31st for the 3rd Annual Human Powered Health Half Marathon in St. Paul! Run this scenic course along the Mississippi River. \nWhether you are training for your first 5K or looking to do a full 13.1 miles\, there’s a distance for every runner. \nRegistration is open\, and a portion of your race entry includes a donation to support the Minnesota Junior Cycling Association (MNJRC).
URL:https://run-minnesota.org/event/human-powered-health-half-marathon-2/
CATEGORIES:10 Mile,5 Mile,5K,Half Marathon,Kids Run
END:VEVENT
BEGIN:VEVENT
DTSTART;TZID=America/Chicago:20250518T083000
DTEND;TZID=America/Chicago:20250518T110000
DTSTAMP:20260424T222056
CREATED:20250321T153746Z
LAST-MODIFIED:20250321T153746Z
UID:10003815-1747557000-1747566000@run-minnesota.org
SUMMARY:ALS SuperHero 5K/10K Dash
DESCRIPTION:The ALS SuperHero Dash is a certified\, chip-timed 5K/10K race and fundraiser supporting The ALS Association. Participants of all ages and abilities are invited to suit up and join the fight against ALS. \nProceeds from the event fund critical ALS research\, provide care services for individuals and families affected by the disease\, and drive advocacy efforts to improve lives. \nWhether you run\, walk\, or dash\, your participation helps bring us closer to a world without ALS. Form a team\, fundraise\, and make a heroic impact!
URL:https://run-minnesota.org/event/als-superhero-5k-10k-dash-2/
CATEGORIES:10K,5K,5k & 10k,Dash,Kids Run,Walk
END:VEVENT
BEGIN:VEVENT
DTSTART;TZID=America/Chicago:20250503T080000
DTEND;TZID=America/Chicago:20250503T110000
DTSTAMP:20260424T222056
CREATED:20250321T154020Z
LAST-MODIFIED:20250321T154020Z
UID:10003762-1746259200-1746270000@run-minnesota.org
SUMMARY:Run Minnesota on Wirth Park Trails
DESCRIPTION:Join us in a family fun-run trail event at Theodore Wirth Park nearby Quaking Bog Area\nStarts:\n8:00 AM Trail Kids 1/4 Mile: 1 loop  –  1/2 mile: 2 loops\n8:15 AM Trail Adults  4 Mile: 4 loops
URL:https://run-minnesota.org/event/run-minnesota-on-wirth-park-trails/
CATEGORIES:Kids Run,Run Minnesota Group Run,Trail
END:VEVENT
BEGIN:VEVENT
DTSTART;TZID=America/Chicago:20250426T090000
DTEND;TZID=America/Chicago:20250426T100000
DTSTAMP:20260424T222056
CREATED:20250129T181025Z
LAST-MODIFIED:20250129T181025Z
UID:10003832-1745658000-1745661600@run-minnesota.org
SUMMARY:Victory 5K
DESCRIPTION:The VCA Victory 5K is a run/walk family-friendly\, community event that is also a certified and sanctioned USATF race. The weekend also includes a pasta feed and a free kids run. The Victory 5K race will provide chip timing\, and each pre-registered participant will be guaranteed this year’s race shirt and medal. See our website for full details on registration\, route information\, awards categories for individuals and teams\, and more! \nVCA aspires to make a positive impact on our community. As part of this mission\, VCA has committed to donating a percentage of race proceeds to Project Care Free Clinic in Hibbing. Project Care provides free\, basic health care services to those who are underinsured or uninsured in our area. \nBoth Project Care and VCA are 501(c)(3) non-profit organizations aimed at serving well those who walk through their doors. By teaming up to organize and run this premier 5K event on the Iron Range\, both organizations can be equipped financially to better serve our people. Sign up today to support these great causes and run with a great race!
URL:https://run-minnesota.org/event/victory-5k-2/
CATEGORIES:5K,Kids Run
END:VEVENT
BEGIN:VEVENT
DTSTART;TZID=America/Chicago:20241018T160000
DTEND;TZID=America/Chicago:20241019T160000
DTSTAMP:20260424T222056
CREATED:20231004T100503Z
LAST-MODIFIED:20231004T132921Z
UID:10001452-1729267200-1729353600@run-minnesota.org
SUMMARY:Mankato Marathon
DESCRIPTION:he Mankato Marathon\, presented by Mayo Clinic Health System\, showcases beautiful dynamic courses and determined runners. Our courses are the perfect blend of Mankato’s scenic trails and urban landscape\, highlighting the beautiful Minnesota River Valley. From Kids races to the Full Marathon and plenty of fun in between\, we have a race for everyone! \nDon’t miss out on the Pork Power Bacon 5K and the Monarch Healthcare Management 10K. Known for exceptional course support including Meds on Bikes and Sport Psych Team\, you are sure to be motivated from start to finish. \nKato Up for the Kato Challenges with the Mini-Kato (5k+10K)\, Mighty-Kato (5k+Half) and the Mega-Kato (5k+Full) \nRegistration opens December 1st\, 2023 for this exceptional race on October 18-19\,2024.
URL:https://run-minnesota.org/event/mankato-marathon/
CATEGORIES:10K,5K,Half Marathon,Kids Run,Marathon,Relay
END:VEVENT
BEGIN:VEVENT
DTSTART;TZID=America/Chicago:20241018T080000
DTEND;TZID=America/Chicago:20241018T170000
DTSTAMP:20260424T222056
CREATED:20231004T100503Z
LAST-MODIFIED:20231004T132921Z
UID:10001451-1729238400-1729270800@run-minnesota.org
SUMMARY:Mankato Marathon
DESCRIPTION:he Mankato Marathon\, presented by Mayo Clinic Health System\, showcases beautiful dynamic courses and determined runners. Our courses are the perfect blend of Mankato’s scenic trails and urban landscape\, highlighting the beautiful Minnesota River Valley. From Kids races to the Full Marathon and plenty of fun in between\, we have a race for everyone! \nDon’t miss out on the Pork Power Bacon 5K and the Monarch Healthcare Management 10K. Known for exceptional course support including Meds on Bikes and Sport Psych Team\, you are sure to be motivated from start to finish. \nKato Up for the Kato Challenges with the Mini-Kato (5k+10K)\, Mighty-Kato (5k+Half) and the Mega-Kato (5k+Full) \nRegistration opens December 1st\, 2023 for this exceptional race on October 18-19\,2024.
URL:https://run-minnesota.org/event/mankato-marathon/
CATEGORIES:10K,5K,Half Marathon,Kids Run,Marathon,Relay
END:VEVENT
END:VCALENDAR