BEGIN:VCALENDAR
VERSION:2.0
PRODID:-//Run Minnesota - ECPv6.15.17//NONSGML v1.0//EN
CALSCALE:GREGORIAN
METHOD:PUBLISH
X-ORIGINAL-URL:https://run-minnesota.org
X-WR-CALDESC:Events for Run Minnesota
REFRESH-INTERVAL;VALUE=DURATION:PT1H
X-Robots-Tag:noindex
X-PUBLISHED-TTL:PT1H
BEGIN:VTIMEZONE
TZID:America/Chicago
BEGIN:DAYLIGHT
TZOFFSETFROM:-0600
TZOFFSETTO:-0500
TZNAME:CDT
DTSTART:20240310T080000
END:DAYLIGHT
BEGIN:STANDARD
TZOFFSETFROM:-0500
TZOFFSETTO:-0600
TZNAME:CST
DTSTART:20241103T070000
END:STANDARD
BEGIN:DAYLIGHT
TZOFFSETFROM:-0600
TZOFFSETTO:-0500
TZNAME:CDT
DTSTART:20250309T080000
END:DAYLIGHT
BEGIN:STANDARD
TZOFFSETFROM:-0500
TZOFFSETTO:-0600
TZNAME:CST
DTSTART:20251102T070000
END:STANDARD
BEGIN:DAYLIGHT
TZOFFSETFROM:-0600
TZOFFSETTO:-0500
TZNAME:CDT
DTSTART:20260308T080000
END:DAYLIGHT
BEGIN:STANDARD
TZOFFSETFROM:-0500
TZOFFSETTO:-0600
TZNAME:CST
DTSTART:20261101T070000
END:STANDARD
END:VTIMEZONE
BEGIN:VEVENT
DTSTART;TZID=America/Chicago:20250905T180000
DTEND;TZID=America/Chicago:20250905T203000
DTSTAMP:20260425T223043
CREATED:20231017T212115Z
LAST-MODIFIED:20241022T213950Z
UID:10001487-1757095200-1757104200@run-minnesota.org
SUMMARY:Minnesota Mile
DESCRIPTION:Excellent for beginners and veterans alike\, the Minnesota Mile offers a breathtaking racecourse for participants to kick off the fall running season. \nStarting and finishing near historic Enger Park in Duluth and with a loop racecourse showcasing some of the best views of Duluth’s skyline and Lake Superior\, the Minnesota Mile is an excellent option for participants of all ages and skill levels. \nWhether you’re trying to set a new PR or just wanting to experience a race environment for the first time\, the Minnesota Mile is the place for you. \nGo the extra mile this year\, and join us at the Minnesota Mile!
URL:https://run-minnesota.org/event/minnesota-mile/
LOCATION:Duluth\, MN
CATEGORIES:1 Mile,Kids Run,Walk
ATTACH;FMTTYPE=image/jpeg:https://run-minnesota.org/wp-content/uploads/2023/10/MN-Mile-Logo.sig
END:VEVENT
END:VCALENDAR