BEGIN:VCALENDAR
VERSION:2.0
PRODID:-//Run Minnesota - ECPv6.15.17//NONSGML v1.0//EN
CALSCALE:GREGORIAN
METHOD:PUBLISH
X-WR-CALNAME:Run Minnesota
X-ORIGINAL-URL:https://run-minnesota.org
X-WR-CALDESC:Events for Run Minnesota
REFRESH-INTERVAL;VALUE=DURATION:PT1H
X-Robots-Tag:noindex
X-PUBLISHED-TTL:PT1H
BEGIN:VTIMEZONE
TZID:America/Chicago
BEGIN:DAYLIGHT
TZOFFSETFROM:-0600
TZOFFSETTO:-0500
TZNAME:CDT
DTSTART:20240310T080000
END:DAYLIGHT
BEGIN:STANDARD
TZOFFSETFROM:-0500
TZOFFSETTO:-0600
TZNAME:CST
DTSTART:20241103T070000
END:STANDARD
BEGIN:DAYLIGHT
TZOFFSETFROM:-0600
TZOFFSETTO:-0500
TZNAME:CDT
DTSTART:20250309T080000
END:DAYLIGHT
BEGIN:STANDARD
TZOFFSETFROM:-0500
TZOFFSETTO:-0600
TZNAME:CST
DTSTART:20251102T070000
END:STANDARD
BEGIN:DAYLIGHT
TZOFFSETFROM:-0600
TZOFFSETTO:-0500
TZNAME:CDT
DTSTART:20260308T080000
END:DAYLIGHT
BEGIN:STANDARD
TZOFFSETFROM:-0500
TZOFFSETTO:-0600
TZNAME:CST
DTSTART:20261101T070000
END:STANDARD
END:VTIMEZONE
BEGIN:VEVENT
DTSTART;TZID=America/Chicago:20250902T080000
DTEND;TZID=America/Chicago:20250902T170000
DTSTAMP:20260425T204839
CREATED:20250513T191313Z
LAST-MODIFIED:20250513T191313Z
UID:10003909-1756800000-1756832400@run-minnesota.org
SUMMARY:Rochester Running Club All-Comers' Track Meets
DESCRIPTION:Meets are FREE for kids 2-15+ years old and open to the public. Para-athlete/wheelchair inclusion – independent or parent assisted are encouraged to participate. \n2025 Dates: June 3rd\, June 10th\, June 17th\, July 1st\, July 8th\, July 15th\nTime: 6:00 PM\nLocation: Soldiers Memorial Field Track\, 244 Soldiers Field Dr. SW\, Rochester MN \nKids are welcome to participate in as many sprints/races and field events as they’d like. One purple participation ribbon is awarded to each participant per evening. First\, second\, and third place ribbons are given in each heat and overall for each age group in the long jump.
URL:https://run-minnesota.org/event/rochester-running-club-all-comers-track-meets/
CATEGORIES:Kids Run
END:VEVENT
BEGIN:VEVENT
DTSTART;TZID=America/Chicago:20250905T180000
DTEND;TZID=America/Chicago:20250905T203000
DTSTAMP:20260425T204839
CREATED:20231017T212115Z
LAST-MODIFIED:20241022T213950Z
UID:10001487-1757095200-1757104200@run-minnesota.org
SUMMARY:Minnesota Mile
DESCRIPTION:Excellent for beginners and veterans alike\, the Minnesota Mile offers a breathtaking racecourse for participants to kick off the fall running season. \nStarting and finishing near historic Enger Park in Duluth and with a loop racecourse showcasing some of the best views of Duluth’s skyline and Lake Superior\, the Minnesota Mile is an excellent option for participants of all ages and skill levels. \nWhether you’re trying to set a new PR or just wanting to experience a race environment for the first time\, the Minnesota Mile is the place for you. \nGo the extra mile this year\, and join us at the Minnesota Mile!
URL:https://run-minnesota.org/event/minnesota-mile/
LOCATION:Duluth\, MN
CATEGORIES:1 Mile,Kids Run,Walk
ATTACH;FMTTYPE=image/jpeg:https://run-minnesota.org/wp-content/uploads/2023/10/MN-Mile-Logo.sig
END:VEVENT
BEGIN:VEVENT
DTSTART;TZID=America/Chicago:20250909T080000
DTEND;TZID=America/Chicago:20250909T170000
DTSTAMP:20260425T204839
CREATED:20250513T191313Z
LAST-MODIFIED:20250513T191313Z
UID:10003910-1757404800-1757437200@run-minnesota.org
SUMMARY:Rochester Running Club All-Comers' Track Meets
DESCRIPTION:Meets are FREE for kids 2-15+ years old and open to the public. Para-athlete/wheelchair inclusion – independent or parent assisted are encouraged to participate. \n2025 Dates: June 3rd\, June 10th\, June 17th\, July 1st\, July 8th\, July 15th\nTime: 6:00 PM\nLocation: Soldiers Memorial Field Track\, 244 Soldiers Field Dr. SW\, Rochester MN \nKids are welcome to participate in as many sprints/races and field events as they’d like. One purple participation ribbon is awarded to each participant per evening. First\, second\, and third place ribbons are given in each heat and overall for each age group in the long jump.
URL:https://run-minnesota.org/event/rochester-running-club-all-comers-track-meets/
CATEGORIES:Kids Run
END:VEVENT
BEGIN:VEVENT
DTSTART;TZID=America/Chicago:20250916T080000
DTEND;TZID=America/Chicago:20250916T170000
DTSTAMP:20260425T204839
CREATED:20250513T191313Z
LAST-MODIFIED:20250513T191313Z
UID:10003911-1758009600-1758042000@run-minnesota.org
SUMMARY:Rochester Running Club All-Comers' Track Meets
DESCRIPTION:Meets are FREE for kids 2-15+ years old and open to the public. Para-athlete/wheelchair inclusion – independent or parent assisted are encouraged to participate. \n2025 Dates: June 3rd\, June 10th\, June 17th\, July 1st\, July 8th\, July 15th\nTime: 6:00 PM\nLocation: Soldiers Memorial Field Track\, 244 Soldiers Field Dr. SW\, Rochester MN \nKids are welcome to participate in as many sprints/races and field events as they’d like. One purple participation ribbon is awarded to each participant per evening. First\, second\, and third place ribbons are given in each heat and overall for each age group in the long jump.
URL:https://run-minnesota.org/event/rochester-running-club-all-comers-track-meets/
CATEGORIES:Kids Run
END:VEVENT
BEGIN:VEVENT
DTSTART;TZID=America/Chicago:20250920T090000
DTEND;TZID=America/Chicago:20250920T120000
DTSTAMP:20260425T204839
CREATED:20250605T183718Z
LAST-MODIFIED:20250605T183718Z
UID:10003958-1758358800-1758369600@run-minnesota.org
SUMMARY:J C Hormel Nature Center 8k and Fun Run
DESCRIPTION:The race takes place among the trails of the J C Hormel Nature Center. It includes paved and unpaved trails.  The trails are mostly flat and fast. We have a fun run for kids that starts shortly after the 8k. We will start the 8k at 9:00 on September 20\, 2025.
URL:https://run-minnesota.org/event/j-c-hormel-nature-center-8k-and-fun-run/
CATEGORIES:8K,Kids Run,Trail
END:VEVENT
BEGIN:VEVENT
DTSTART;TZID=America/Chicago:20250920T090000
DTEND;TZID=America/Chicago:20250920T140000
DTSTAMP:20260425T204839
CREATED:20250502T144654Z
LAST-MODIFIED:20250502T144654Z
UID:10003877-1758358800-1758376800@run-minnesota.org
SUMMARY:Thumbs Up 12th Annual 5K & 10K Run/Walk/Bike
DESCRIPTION:The Thumbs Up 5K & 10K run\, walk\, and bike event began in October 2014 after several community members lost a loved one to suicide. The event hopes to support those families who have lost a loved one to suicide and to get the conversation started about mental health\, with the hopes that it would allow a safe space for others to seek help. \nThe Annual Thumbs Up 5K & 10K route sponsored by First Bank Elk River and HealthPartners takes place in charming Elk River\, Minnesota. The paved-road course offers a 3.1 mile (5K) and a 6.2 mile (10K) run\, walk\, or bike race. Take in the beauty of the William H. Houlton Conservation area\, the Lake Orono Dam\, and breathtaking views along Lake Orono.
URL:https://run-minnesota.org/event/thumbs-up-12th-annual-5k-10k-run-walk-bike/
CATEGORIES:10K,5K,Kids Run,Walk
END:VEVENT
BEGIN:VEVENT
DTSTART;TZID=America/Chicago:20250923T080000
DTEND;TZID=America/Chicago:20250923T170000
DTSTAMP:20260425T204839
CREATED:20250513T191313Z
LAST-MODIFIED:20250513T191313Z
UID:10003912-1758614400-1758646800@run-minnesota.org
SUMMARY:Rochester Running Club All-Comers' Track Meets
DESCRIPTION:Meets are FREE for kids 2-15+ years old and open to the public. Para-athlete/wheelchair inclusion – independent or parent assisted are encouraged to participate. \n2025 Dates: June 3rd\, June 10th\, June 17th\, July 1st\, July 8th\, July 15th\nTime: 6:00 PM\nLocation: Soldiers Memorial Field Track\, 244 Soldiers Field Dr. SW\, Rochester MN \nKids are welcome to participate in as many sprints/races and field events as they’d like. One purple participation ribbon is awarded to each participant per evening. First\, second\, and third place ribbons are given in each heat and overall for each age group in the long jump.
URL:https://run-minnesota.org/event/rochester-running-club-all-comers-track-meets/
CATEGORIES:Kids Run
END:VEVENT
BEGIN:VEVENT
DTSTART;TZID=America/Chicago:20250927T000000
DTEND;TZID=America/Chicago:20250927T000000
DTSTAMP:20260425T204839
CREATED:20250729T235933Z
LAST-MODIFIED:20250812T151807Z
UID:10003972-1758931200-1758931200@run-minnesota.org
SUMMARY:Warrior 5k Run/Walk and Family Mile
DESCRIPTION:Join us on Saturday\, September 27\, 2025\, at Two Rivers High School for the 16th Annual Warrior 5K Run/Walk and Family Mile! \nGet ready for a fun event that welcomes both runners and walkers! You can enjoy the scenic 5K\, featuring an out-and-back rolling course from the high school to the Mendota Heights Villages and through neighborhoods in between. Or join in the fun at the Family Mile on the beautiful Two Rivers Track! \nThe ISD 197 Foundation\, in partnership with the Two Rivers Student Council\, organizes this event to raise funds to support educational programs and opportunities for students in District 197. Don’t miss this fun opportunity to run or walk for a great cause!
URL:https://run-minnesota.org/event/warrior-5k-run-walk-and-family-mile/
CATEGORIES:1 Mile,5K,Kids Run,Walk
ATTACH;FMTTYPE=image/png:https://run-minnesota.org/wp-content/uploads/2025/07/warrior-run.png
END:VEVENT
BEGIN:VEVENT
DTSTART;TZID=America/Chicago:20250930T080000
DTEND;TZID=America/Chicago:20250930T170000
DTSTAMP:20260425T204839
CREATED:20250513T191313Z
LAST-MODIFIED:20250513T191313Z
UID:10003913-1759219200-1759251600@run-minnesota.org
SUMMARY:Rochester Running Club All-Comers' Track Meets
DESCRIPTION:Meets are FREE for kids 2-15+ years old and open to the public. Para-athlete/wheelchair inclusion – independent or parent assisted are encouraged to participate. \n2025 Dates: June 3rd\, June 10th\, June 17th\, July 1st\, July 8th\, July 15th\nTime: 6:00 PM\nLocation: Soldiers Memorial Field Track\, 244 Soldiers Field Dr. SW\, Rochester MN \nKids are welcome to participate in as many sprints/races and field events as they’d like. One purple participation ribbon is awarded to each participant per evening. First\, second\, and third place ribbons are given in each heat and overall for each age group in the long jump.
URL:https://run-minnesota.org/event/rochester-running-club-all-comers-track-meets/
CATEGORIES:Kids Run
END:VEVENT
END:VCALENDAR