BEGIN:VCALENDAR
VERSION:2.0
PRODID:-//Run Minnesota - ECPv6.15.17//NONSGML v1.0//EN
CALSCALE:GREGORIAN
METHOD:PUBLISH
X-ORIGINAL-URL:https://run-minnesota.org
X-WR-CALDESC:Events for Run Minnesota
REFRESH-INTERVAL;VALUE=DURATION:PT1H
X-Robots-Tag:noindex
X-PUBLISHED-TTL:PT1H
BEGIN:VTIMEZONE
TZID:America/Chicago
BEGIN:DAYLIGHT
TZOFFSETFROM:-0600
TZOFFSETTO:-0500
TZNAME:CDT
DTSTART:20240310T080000
END:DAYLIGHT
BEGIN:STANDARD
TZOFFSETFROM:-0500
TZOFFSETTO:-0600
TZNAME:CST
DTSTART:20241103T070000
END:STANDARD
BEGIN:DAYLIGHT
TZOFFSETFROM:-0600
TZOFFSETTO:-0500
TZNAME:CDT
DTSTART:20250309T080000
END:DAYLIGHT
BEGIN:STANDARD
TZOFFSETFROM:-0500
TZOFFSETTO:-0600
TZNAME:CST
DTSTART:20251102T070000
END:STANDARD
BEGIN:DAYLIGHT
TZOFFSETFROM:-0600
TZOFFSETTO:-0500
TZNAME:CDT
DTSTART:20260308T080000
END:DAYLIGHT
BEGIN:STANDARD
TZOFFSETFROM:-0500
TZOFFSETTO:-0600
TZNAME:CST
DTSTART:20261101T070000
END:STANDARD
END:VTIMEZONE
BEGIN:VEVENT
DTSTART;TZID=America/Chicago:20250805T080000
DTEND;TZID=America/Chicago:20250805T170000
DTSTAMP:20260425T222819
CREATED:20250513T191313Z
LAST-MODIFIED:20250513T191313Z
UID:10003905-1754380800-1754413200@run-minnesota.org
SUMMARY:Rochester Running Club All-Comers' Track Meets
DESCRIPTION:Meets are FREE for kids 2-15+ years old and open to the public. Para-athlete/wheelchair inclusion – independent or parent assisted are encouraged to participate. \n2025 Dates: June 3rd\, June 10th\, June 17th\, July 1st\, July 8th\, July 15th\nTime: 6:00 PM\nLocation: Soldiers Memorial Field Track\, 244 Soldiers Field Dr. SW\, Rochester MN \nKids are welcome to participate in as many sprints/races and field events as they’d like. One purple participation ribbon is awarded to each participant per evening. First\, second\, and third place ribbons are given in each heat and overall for each age group in the long jump.
URL:https://run-minnesota.org/event/rochester-running-club-all-comers-track-meets/
CATEGORIES:Kids Run
END:VEVENT
BEGIN:VEVENT
DTSTART;TZID=America/Chicago:20250812T000000
DTEND;TZID=America/Chicago:20250812T000000
DTSTAMP:20260425T222819
CREATED:20250605T183549Z
LAST-MODIFIED:20250812T154738Z
UID:10003963-1754956800-1754956800@run-minnesota.org
SUMMARY:Prior Lake Dental Dash
DESCRIPTION:Please join us for an exhilarating event that promotes fitness\, camaraderie\, and community support! Our 5K\, 10K and Tooth Trot promise to be a memorable occasion for families\, friends\, and participants of all ages and abilities. Whether you’re a seasoned runner or prefer a leisurely stroll\, there’s something for everyone at our event. \nPrior Lake Dental Dash 5K & 10K \nRun or Walk: Lace up your shoes and hit the pavement as you embark on a scenic route through the picturesque landscapes of Prior Lake. Whether you choose to run competitively or walk at your own pace\, every step you take supports a worthy cause. \nParticipant Rewards: As a token of appreciation for your participation\, all registered participants will receive commemorative t-shirts and medals. \nCommunity Impact: Every dollar raised from this event will be donated to The Sunshine Social Club of Prior Lake. By supporting their mission to enrich the lives of young adults with intellectual and developmental disabilities\, you’re helping to foster friendships\, social connections\, and learning opportunities within our community. \nTooth Trot (.25 miles) \nIntroduce your youngsters (ages 2-12) to the wonderful world of running at the Prior Lake Dental Tooth Trot! Turn race day into family day and give everyone an opportunity to run out some energy\, Prior Lake-style. After you finish your event\, stick around for a fun Saturday full of activities at Cleary Lake Park — and earn a t-shirt of their own! \nMission of The Sunshine Social Club of Prior Lake:\nThe Sunshine Social Club is dedicated to empowering young adults with intellectual and developmental disabilities. Through a variety of programs and activities\, they strive to create inclusive environments where individuals can build meaningful relationships\, develop life skills\, and pursue their passions with confidence. \nGet Involved: Whether you’re a participant\, volunteer\, or sponsor\, your involvement in our second annual Prior Lake Dental Dash is crucial to its success. Together\, we can make a positive impact on the lives of those in need and create lasting memories for years to come. \nChipped Timing: NEW this year- whether you’re aiming for a personal best or simply enjoying the day\, chipped timing ensures accurate results for our 5K and 10K. Plus\, participant will receive a custom-designed race bib to commemorate this special event. Get ready to hit the starting line with an extra touch of professionalism and fun! \nDon’t miss out on this opportunity to run\, walk\, and give back to the community! Mark your calendars for August 16\, 2025\, and join us for a day filled with fun\, fitness\, and philanthropy.
URL:https://run-minnesota.org/event/prior-lake-dental-dash/
CATEGORIES:10K,5K,Kids Run,Walk
ATTACH;FMTTYPE=image/png:https://run-minnesota.org/wp-content/uploads/2025/06/hormel.png
END:VEVENT
BEGIN:VEVENT
DTSTART;TZID=America/Chicago:20250812T080000
DTEND;TZID=America/Chicago:20250812T170000
DTSTAMP:20260425T222819
CREATED:20250513T191313Z
LAST-MODIFIED:20250513T191313Z
UID:10003906-1754985600-1755018000@run-minnesota.org
SUMMARY:Rochester Running Club All-Comers' Track Meets
DESCRIPTION:Meets are FREE for kids 2-15+ years old and open to the public. Para-athlete/wheelchair inclusion – independent or parent assisted are encouraged to participate. \n2025 Dates: June 3rd\, June 10th\, June 17th\, July 1st\, July 8th\, July 15th\nTime: 6:00 PM\nLocation: Soldiers Memorial Field Track\, 244 Soldiers Field Dr. SW\, Rochester MN \nKids are welcome to participate in as many sprints/races and field events as they’d like. One purple participation ribbon is awarded to each participant per evening. First\, second\, and third place ribbons are given in each heat and overall for each age group in the long jump.
URL:https://run-minnesota.org/event/rochester-running-club-all-comers-track-meets/
CATEGORIES:Kids Run
END:VEVENT
BEGIN:VEVENT
DTSTART;TZID=America/Chicago:20250816T080000
DTEND;TZID=America/Chicago:20250816T120000
DTSTAMP:20260425T222819
CREATED:20250321T153905Z
LAST-MODIFIED:20250321T153905Z
UID:10003778-1755331200-1755345600@run-minnesota.org
SUMMARY:RBC Race For The Kids
DESCRIPTION:Join us for the RBC Race for the Kids on Saturday\, August 17 for a 3 Mile\, 5 Mile\, 10 Mile or Kids Run. This run is open to everyone no matter your fitness level. Enjoy the beautiful course along the Mississippi River. Race starts and finishes at the Guthrie Theater.  \nThe RBC Race for the Kids MN started in 2014 and supports the Ronald McDonald House Charities Upper Midwest. Each year this race along with its partners raises over $50\,000 to provide children with a home away from home when they are going through a crisis. \nThe RBC Race for the Kids is a global initiative supporting kids and youth around the world.
URL:https://run-minnesota.org/event/rbc-race-for-the-kids-2/
CATEGORIES:10 Mile,5 Mile,5K,Kids Run
END:VEVENT
BEGIN:VEVENT
DTSTART;TZID=America/Chicago:20250817T070000
DTEND;TZID=America/Chicago:20250817T103000
DTSTAMP:20260425T222819
CREATED:20250323T153352Z
LAST-MODIFIED:20250323T153352Z
UID:10003857-1755414000-1755426600@run-minnesota.org
SUMMARY:Monarch Fund 5K Run/Walk
DESCRIPTION:Join us for a fun morning of running or walking at our location on Harriet Island along the beautiful Mississippi River and the downtown Saint Paul skyline.   \nPerfect for the entire family – run or walk the 5K\, free Kids Run\, and post-event celebration with awards ceremony. Certified 5K course (Certification Code MN 18048RR) and a chip-timed event.   \nPrize money will be presented to the top three men and women overall ($200\, $150\, $100).  5-year age division awards. \nSpecial award for the best age graded performance. \nAll race proceeds will go to the Rene and Brian McCoy Cancer Recovery Research Monarch Fund at Hamline University.
URL:https://run-minnesota.org/event/monarch-fund-5k-run-walk/
CATEGORIES:5K,Kids Run
END:VEVENT
BEGIN:VEVENT
DTSTART;TZID=America/Chicago:20250819T080000
DTEND;TZID=America/Chicago:20250819T170000
DTSTAMP:20260425T222819
CREATED:20250513T191313Z
LAST-MODIFIED:20250513T191313Z
UID:10003907-1755590400-1755622800@run-minnesota.org
SUMMARY:Rochester Running Club All-Comers' Track Meets
DESCRIPTION:Meets are FREE for kids 2-15+ years old and open to the public. Para-athlete/wheelchair inclusion – independent or parent assisted are encouraged to participate. \n2025 Dates: June 3rd\, June 10th\, June 17th\, July 1st\, July 8th\, July 15th\nTime: 6:00 PM\nLocation: Soldiers Memorial Field Track\, 244 Soldiers Field Dr. SW\, Rochester MN \nKids are welcome to participate in as many sprints/races and field events as they’d like. One purple participation ribbon is awarded to each participant per evening. First\, second\, and third place ribbons are given in each heat and overall for each age group in the long jump.
URL:https://run-minnesota.org/event/rochester-running-club-all-comers-track-meets/
CATEGORIES:Kids Run
END:VEVENT
BEGIN:VEVENT
DTSTART;TZID=America/Chicago:20250824T090000
DTEND;TZID=America/Chicago:20250824T113000
DTSTAMP:20260425T222819
CREATED:20241014T221518Z
LAST-MODIFIED:20241014T221518Z
UID:10003723-1756026000-1756035000@run-minnesota.org
SUMMARY:Moms on the Run 5K/10K
DESCRIPTION:The annual Moms on the Run 5K/10K and Kids Run serves as the big summer finale for our Twin Cities Moms on the Run classes\, and a destination event for our runners nationally! This year\, the event will be held both in-person and virtually. \nAll women are welcome to join us! This event is fun for all and is not exclusive to members. Bring the whole family to enjoy the festivities: food trucks\, music\, face painting\, crazy hair\, sign-making and kids’ races!
URL:https://run-minnesota.org/event/moms-on-the-run-5k-10k-2/
LOCATION:1600 Phalen Dr. Saint Paul\, MN US 55106
CATEGORIES:10K,5K,Kids Run
ATTACH;FMTTYPE=image/png:https://run-minnesota.org/wp-content/uploads/2024/10/Start-line-with-date.png
END:VEVENT
BEGIN:VEVENT
DTSTART;TZID=America/Chicago:20250826T080000
DTEND;TZID=America/Chicago:20250826T170000
DTSTAMP:20260425T222819
CREATED:20250513T191313Z
LAST-MODIFIED:20250513T191313Z
UID:10003908-1756195200-1756227600@run-minnesota.org
SUMMARY:Rochester Running Club All-Comers' Track Meets
DESCRIPTION:Meets are FREE for kids 2-15+ years old and open to the public. Para-athlete/wheelchair inclusion – independent or parent assisted are encouraged to participate. \n2025 Dates: June 3rd\, June 10th\, June 17th\, July 1st\, July 8th\, July 15th\nTime: 6:00 PM\nLocation: Soldiers Memorial Field Track\, 244 Soldiers Field Dr. SW\, Rochester MN \nKids are welcome to participate in as many sprints/races and field events as they’d like. One purple participation ribbon is awarded to each participant per evening. First\, second\, and third place ribbons are given in each heat and overall for each age group in the long jump.
URL:https://run-minnesota.org/event/rochester-running-club-all-comers-track-meets/
CATEGORIES:Kids Run
END:VEVENT
END:VCALENDAR