BEGIN:VCALENDAR
VERSION:2.0
PRODID:-//Run Minnesota - ECPv6.15.17//NONSGML v1.0//EN
CALSCALE:GREGORIAN
METHOD:PUBLISH
X-WR-CALNAME:Run Minnesota
X-ORIGINAL-URL:https://run-minnesota.org
X-WR-CALDESC:Events for Run Minnesota
REFRESH-INTERVAL;VALUE=DURATION:PT1H
X-Robots-Tag:noindex
X-PUBLISHED-TTL:PT1H
BEGIN:VTIMEZONE
TZID:America/Chicago
BEGIN:DAYLIGHT
TZOFFSETFROM:-0600
TZOFFSETTO:-0500
TZNAME:CDT
DTSTART:20240310T080000
END:DAYLIGHT
BEGIN:STANDARD
TZOFFSETFROM:-0500
TZOFFSETTO:-0600
TZNAME:CST
DTSTART:20241103T070000
END:STANDARD
BEGIN:DAYLIGHT
TZOFFSETFROM:-0600
TZOFFSETTO:-0500
TZNAME:CDT
DTSTART:20250309T080000
END:DAYLIGHT
BEGIN:STANDARD
TZOFFSETFROM:-0500
TZOFFSETTO:-0600
TZNAME:CST
DTSTART:20251102T070000
END:STANDARD
BEGIN:DAYLIGHT
TZOFFSETFROM:-0600
TZOFFSETTO:-0500
TZNAME:CDT
DTSTART:20260308T080000
END:DAYLIGHT
BEGIN:STANDARD
TZOFFSETFROM:-0500
TZOFFSETTO:-0600
TZNAME:CST
DTSTART:20261101T070000
END:STANDARD
END:VTIMEZONE
BEGIN:VEVENT
DTSTART;TZID=America/Chicago:20251018T080000
DTEND;TZID=America/Chicago:20251018T120000
DTSTAMP:20260424T034549
CREATED:20250509T193103Z
LAST-MODIFIED:20250509T193103Z
UID:10003889-1760774400-1760788800@run-minnesota.org
SUMMARY:Victory Races Presented by LifeSource 5k\, 10k\, Kids Run
DESCRIPTION:Join us this MEA weekend for a fun and fulfilling experience. Pick your distance or participate in the doubleheader! Each race comes with a free shirt\, a fast course\, and a fun time out in the Minneapolis neighborhood. Plus\, every step you take supports nonprofits strengthening the Minneapolis community. Lace up and make a difference! \nVictory Races 5K\nA race for everyone! Whether you’re chasing your next personal best or enjoying a weekend walk with friends\, the Victory 5K is a must-run event on a fast and scenic course. This 3.1 mile course starts and ends at Webber Park in North Minneapolis and. \nVictory Races 10K\nTake on the challenge! The Victory 10K offers runners an opportunity to conquer a fast and exhilarating course while enjoying the crisp Minneapolis autumn. Cheerful crowds\, free participant shirts\, and the opportunity to support local nonprofits make this race one to remember. The 10k also starts and ends at Webber Park in Minneapolis. Bring your energy and enthusiasm this MEA weekend\, and revel in the satisfaction of completing a race that gives back. \nVictory Races Doubleheader\nTwo races\, double the fun. Test your endurance with the Victory Races Doubleheader by running both the 5K and 10K! Start your day with a fast-paced 5K\, recharge\, and then tackle the thrilling 10K. It’s the ultimate challenge for dedicated runners\, with free shirts\, community vibes\, and the chance to fund impactful nonprofits in Minneapolis. You’ll leave with a full heart and satisfied legs! \nVictory Kids Run\nBig fun for little runners! The Victory Kids Run is all about inspiring the next generation of athletes with a kid-friendly race that’s energetic\, exciting\, and inclusive. Perfect for young runners enjoying the MEA weekend\, every participant receives a free shirt and plenty of encouragement from the supportive crowd. Bring the family\, cheer on the kids\, and celebrate community together! \nCOURSE \nThis course is flat\, straight\, and fast! The race starts on Webber Parkway near Colfax and proceeds west on Victory Memorial Drive to the flagpole. It then turns directly south to Lowry to the halfway point turn-around and returns the same route\, finishing on Webber Parkway near Bryant Ave. The 5K course is flat\, out to the flagpole and back. Both distances are USATF Certified.\n5K Map | 10K Map \n**Participants Must Register by October 1st to Guarantee a Shirt**
URL:https://run-minnesota.org/event/victory-races-presented-by-lifesource-5k-10k-kids-run/
CATEGORIES:10K,5K,5k & 10k,Kids Run
END:VEVENT
BEGIN:VEVENT
DTSTART;TZID=America/Chicago:20251018T074500
DTEND;TZID=America/Chicago:20251018T120000
DTSTAMP:20260424T034549
CREATED:20250321T153640Z
LAST-MODIFIED:20250321T153640Z
UID:10003842-1760773500-1760788800@run-minnesota.org
SUMMARY:Bluff Color Fest
DESCRIPTION:Multiple distance trail race set in beautiful Red Wing during peak Fall colors. Race features pathways through pristine prairies\, closed forest glades\, and tight single track climbing a challenging sandstone ridge.
URL:https://run-minnesota.org/event/bluff-color-fest/
CATEGORIES:10 Mile,5k & 10k,Half Marathon
END:VEVENT
BEGIN:VEVENT
DTSTART;TZID=America/Chicago:20251017T160000
DTEND;TZID=America/Chicago:20251018T150000
DTSTAMP:20260424T034549
CREATED:20250321T154003Z
LAST-MODIFIED:20250321T154003Z
UID:10003725-1760716800-1760799600@run-minnesota.org
SUMMARY:Mankato Marathon
DESCRIPTION:The Mankato Marathon\, presented by Mayo Clinic Health System\, showcases beautiful dynamic courses and determined runners. Our courses are the perfect blend of Mankato’s scenic trails and urban landscape\, highlighting the beautiful Minnesota River Valley. From Kids races to the Full Marathon and plenty of fun in between\, we have a race for everyone! \nDon’t miss out on the Pork Power Bacon 5K and the Monarch Healthcare Management 10K. Known for exceptional course support including Meds on Bikes and Sport Psych Team\, you are sure to be motivated from start to finish. \nKato Up for the Kato Challenges with the Mini-Kato (5k+10K)\, Mighty-Kato (5k+Half) and the Mega-Kato (5k+Full) \nRegistration opens December 1st\, 2024 for this exceptional race on October 17-18\, 2025.\nThe Mankato Marathon was named the “Top Marathon Worth Traveling For in Minnesota”! The Mankato Half Marathon was named a 2017 Top 20 Half Marathon and Top 10 Beautiful On-Course Scenery in the country by The BibRave 100.
URL:https://run-minnesota.org/event/mankato-marathon-2/
CATEGORIES:5k & 10k,Half Marathon,Kids Run,Marathon,Relay
END:VEVENT
BEGIN:VEVENT
DTSTART;TZID=America/Chicago:20250913T090000
DTEND;TZID=America/Chicago:20250913T110000
DTSTAMP:20260424T034549
CREATED:20250321T180947Z
LAST-MODIFIED:20250321T180947Z
UID:10003735-1757754000-1757761200@run-minnesota.org
SUMMARY:King Turkey Day 5K/10K
DESCRIPTION:Join us for the 46th Annual King Turkey Day 10K Run! This course highlights Worthington and Lake Okabena as you travel around the lake to the finish line located on the main street through downtown!  \nNot sure you can go the distance? Register for our KTD 5K Event! This event starts the route with the 10K\, down to the lake but breaks off near the 2 mile mark and finished on main street.  \n​
URL:https://run-minnesota.org/event/king-turkey-day-5k-10k/
CATEGORIES:10K,5K,5k & 10k
END:VEVENT
BEGIN:VEVENT
DTSTART;TZID=America/Chicago:20250704T081000
DTEND;TZID=America/Chicago:20250704T110000
DTSTAMP:20260424T034549
CREATED:20250321T153955Z
LAST-MODIFIED:20250321T153955Z
UID:10003777-1751616600-1751626800@run-minnesota.org
SUMMARY:Stars & Strides
DESCRIPTION:Get ready to lace up your running shoes and embrace the spirit of freedom at the Stars and Strides 5K\, 10K & Kids Run. This is a thrilling race around the picturesque Lake Harriet in Minneapolis. This Independence Day\, let’s come together for a day of fitness\, fun\, and patriotism.
URL:https://run-minnesota.org/event/stars-strides/
CATEGORIES:5k & 10k,Kids Run
END:VEVENT
BEGIN:VEVENT
DTSTART;TZID=America/Chicago:20250704T070000
DTEND;TZID=America/Chicago:20250704T160000
DTSTAMP:20260424T034549
CREATED:20250321T153546Z
LAST-MODIFIED:20250513T193958Z
UID:10003851-1751612400-1751644800@run-minnesota.org
SUMMARY:Excelsior Firecracker
DESCRIPTION:Celebrate the 4th of July with a dash of excitement at the Excelsior Firecracker Run! Choose your perfect distance with options to run a scenic 10k\, a spirited 5k\, or a family-friendly 1 Mile route. Race along the picturesque shores of Lake Minnetonka and through the historic streets of Excelsior\, Shorewood\, Deephaven and Greenwood\, and make it a day of patriotic fun by bringing your friends and family to volunteer and enjoy post-race festivities. \nFor more information and details regarding the event\, please visit: https://www.excelsiorlakeminnetonkachamber.com/firecracker-race/
URL:https://run-minnesota.org/event/excelsior-firecracker/
CATEGORIES:1 Mile,5K,5k & 10k
END:VEVENT
BEGIN:VEVENT
DTSTART;TZID=America/Chicago:20250607T060000
DTEND;TZID=America/Chicago:20250607T100000
DTSTAMP:20260424T034549
CREATED:20240531T170058Z
LAST-MODIFIED:20240531T170058Z
UID:10003413-1749276000-1749290400@run-minnesota.org
SUMMARY:Go for the Gust
DESCRIPTION:We are thrilled to offer this racing event again this year. BMC’s Go for the Gust is held during Grantsburg’s Big Gust Days. \nCOURSE:\n5K (approx. 3.1 miles): On paved roads starting and finishing at Burnett Medical Center.\n10K (approx. 6.2 miles): Extended course with same start and finish as 5K. \nSCHEDULE OF EVENTS:\n6:00am-8:00am: Same-day registration & packet pick-up\n7:30am: Start of 10k race.\n8:00am: Start of 5k race. \nRACE FEE:\n$30 for 5k/$25 ages 65+ and 16 & under.\n$40 for 10k/$35 ages 65+ and 16 & under.\nSame day registration fees increase by $5. \nREGISTRATION:\nEveryone who pre-registers by Friday\, May 3 will receive a moisture wick t-shirt—so register early! Sorry\, no refunds. Each year the proceeds benefit a local organization. This year\, all profits will be donated towards Interfaith Caregivers of Burnett County. \nPARKING:\nPark at Burnett Medical Center (257 W St George Ave\, Grantsburg\, WI 54840). Registration will be in the North parking lot on W St George Ave. \nQUESTIONS:\nVisit www.burnettmedicalcenter.com/about-us/events or contact the Race Director at (715) 463-7285.
URL:https://run-minnesota.org/event/go-for-the-gust/
CATEGORIES:10K,5K,5k & 10k,Walk
END:VEVENT
BEGIN:VEVENT
DTSTART;TZID=America/Chicago:20250518T083000
DTEND;TZID=America/Chicago:20250518T110000
DTSTAMP:20260424T034549
CREATED:20250321T153746Z
LAST-MODIFIED:20250321T153746Z
UID:10003815-1747557000-1747566000@run-minnesota.org
SUMMARY:ALS SuperHero 5K/10K Dash
DESCRIPTION:The ALS SuperHero Dash is a certified\, chip-timed 5K/10K race and fundraiser supporting The ALS Association. Participants of all ages and abilities are invited to suit up and join the fight against ALS. \nProceeds from the event fund critical ALS research\, provide care services for individuals and families affected by the disease\, and drive advocacy efforts to improve lives. \nWhether you run\, walk\, or dash\, your participation helps bring us closer to a world without ALS. Form a team\, fundraise\, and make a heroic impact!
URL:https://run-minnesota.org/event/als-superhero-5k-10k-dash-2/
CATEGORIES:10K,5K,5k & 10k,Dash,Kids Run,Walk
END:VEVENT
BEGIN:VEVENT
DTSTART;TZID=America/Chicago:20250517T083000
DTEND;TZID=America/Chicago:20250517T130000
DTSTAMP:20260424T034549
CREATED:20250203T121440Z
LAST-MODIFIED:20250203T121440Z
UID:10003824-1747470600-1747486800@run-minnesota.org
SUMMARY:PNC Women On The Run
DESCRIPTION:When we run as women\, we don’t just move forward. We bring the energy. We defy the cliché. We question the expected. Miles don’t matter—it’s the feeling that counts. Whether it’s high-fiving a new mom as she crosses the finish line or cheering along a friend you met on the course\, the power we generate is bigger than any runner’s high. It’s the power to redraw the map\, and fuel us past any finish line\, together. So join us and find your place with people who make you bloom. \n​ \nWomen. \nWe run the cities.
URL:https://run-minnesota.org/event/pnc-women-on-the-run/
CATEGORIES:10 Mile,5k & 10k
END:VEVENT
END:VCALENDAR