BEGIN:VCALENDAR
VERSION:2.0
PRODID:-//Run Minnesota - ECPv6.15.17//NONSGML v1.0//EN
CALSCALE:GREGORIAN
METHOD:PUBLISH
X-ORIGINAL-URL:https://run-minnesota.org
X-WR-CALDESC:Events for Run Minnesota
REFRESH-INTERVAL;VALUE=DURATION:PT1H
X-Robots-Tag:noindex
X-PUBLISHED-TTL:PT1H
BEGIN:VTIMEZONE
TZID:America/Chicago
BEGIN:DAYLIGHT
TZOFFSETFROM:-0600
TZOFFSETTO:-0500
TZNAME:CDT
DTSTART:20240310T080000
END:DAYLIGHT
BEGIN:STANDARD
TZOFFSETFROM:-0500
TZOFFSETTO:-0600
TZNAME:CST
DTSTART:20241103T070000
END:STANDARD
BEGIN:DAYLIGHT
TZOFFSETFROM:-0600
TZOFFSETTO:-0500
TZNAME:CDT
DTSTART:20250309T080000
END:DAYLIGHT
BEGIN:STANDARD
TZOFFSETFROM:-0500
TZOFFSETTO:-0600
TZNAME:CST
DTSTART:20251102T070000
END:STANDARD
BEGIN:DAYLIGHT
TZOFFSETFROM:-0600
TZOFFSETTO:-0500
TZNAME:CDT
DTSTART:20260308T080000
END:DAYLIGHT
BEGIN:STANDARD
TZOFFSETFROM:-0500
TZOFFSETTO:-0600
TZNAME:CST
DTSTART:20261101T070000
END:STANDARD
END:VTIMEZONE
BEGIN:VEVENT
DTSTART;TZID=America/Chicago:20250531T073000
DTEND;TZID=America/Chicago:20250531T110000
DTSTAMP:20260424T051211
CREATED:20250420T111106Z
LAST-MODIFIED:20250420T111106Z
UID:10003872-1748676600-1748689200@run-minnesota.org
SUMMARY:Human Powered Health Half Marathon
DESCRIPTION:Mark your calendars on May 31st for the 3rd Annual Human Powered Health Half Marathon in St. Paul! Run this scenic course along the Mississippi River. \nWhether you are training for your first 5K or looking to do a full 13.1 miles\, there’s a distance for every runner. \nRegistration is open\, and a portion of your race entry includes a donation to support the Minnesota Junior Cycling Association (MNJRC).
URL:https://run-minnesota.org/event/human-powered-health-half-marathon-2/
CATEGORIES:10 Mile,5 Mile,5K,Half Marathon,Kids Run
END:VEVENT
BEGIN:VEVENT
DTSTART;TZID=America/Chicago:20250531T070000
DTEND;TZID=America/Chicago:20250531T120000
DTSTAMP:20260424T051211
CREATED:20250504T162219Z
LAST-MODIFIED:20250504T162219Z
UID:10003880-1748674800-1748692800@run-minnesota.org
SUMMARY:Mom's Mom's Marathon Supported Training Run
DESCRIPTION:Join us May 31\, 2025! Gear West offers you\, and your friends\, a 10 – 20 mile supported trail run for:\n• Runners desiring a Spring Marathon training option (guess the event !) three weeks before your Mom’s Mom marathon\n• Triathletes\, a pre Half or Full Ironman Training Run (you can always bike after and swim in Long Lake prior!) or\,\n• Workout lovers who embrace an early morning calorie burner run burn\nThis May food + drink supported run will leave the Gear West Run and Ski building between 7-8 am and take you on the relatively flat but extremely scenic paved Dakota Trail and the smooth graveled Luce Line Trail. Runners have a marked turn-around at 10 miles and 20 miles but of course any length run can be chosen. \nThe most fun? Hot fresh pancakes await your finish under the Gear West timber frame! Bring a change of clothing\, and if so inclined\, a $10.00 donation. Then treat yourself to pancakes\, drinks and conversation while your legs recuperate. Check below for details.\nWe hope to see you!\nThe Gear West Team. \nSchedule: \nMay 31\, 2025 \nOpen Start: 7am-8am Gear West Parking Lot \nAid Stations will be maintained from 7:45 to Noon \nPancakes just like GRANDMA makes… will be flipping from\n9am-Noon.  \nAid Stations \nNutrition provided by Untapped* the better Maple Fuel! \nSyrup\, Waffles\, Electrolyte Drink\, Water \nRegister Now!
URL:https://run-minnesota.org/event/moms-moms-marathon-supported-training-run/
CATEGORIES:10 Mile,20 Mile,Half Marathon,Marathon
END:VEVENT
BEGIN:VEVENT
DTSTART;TZID=America/Chicago:20250517T083000
DTEND;TZID=America/Chicago:20250517T130000
DTSTAMP:20260424T051211
CREATED:20250203T121440Z
LAST-MODIFIED:20250203T121440Z
UID:10003824-1747470600-1747486800@run-minnesota.org
SUMMARY:PNC Women On The Run
DESCRIPTION:When we run as women\, we don’t just move forward. We bring the energy. We defy the cliché. We question the expected. Miles don’t matter—it’s the feeling that counts. Whether it’s high-fiving a new mom as she crosses the finish line or cheering along a friend you met on the course\, the power we generate is bigger than any runner’s high. It’s the power to redraw the map\, and fuel us past any finish line\, together. So join us and find your place with people who make you bloom. \n​ \nWomen. \nWe run the cities.
URL:https://run-minnesota.org/event/pnc-women-on-the-run/
CATEGORIES:10 Mile,5k & 10k
END:VEVENT
BEGIN:VEVENT
DTSTART;TZID=America/Chicago:20250503T070000
DTEND;TZID=America/Chicago:20250503T120000
DTSTAMP:20260424T051211
CREATED:20231028T200254Z
LAST-MODIFIED:20250811T143946Z
UID:10001541-1746255600-1746273600@run-minnesota.org
SUMMARY:The Willow 10 and 20-miler
DESCRIPTION:Join us for the Willow Trail Race\, where you can choose a ten-mile or twenty-mile course! The twenty-mile race begins at 7:00 a.m. and consists of two loops through Willow River State Park\, while the ten-mile race starts at 8:00 a.m. and consists of one loop. The course will take you on a grass and gravel trail through the beautiful Willow River State Park\, with diverse terrains and breathtaking views to keep you motivated throughout the race. Whether you are an experienced runner or a beginner\, this is an excellent opportunity to challenge yourself and experience the park’s beauty. We hope to see you there!
URL:https://run-minnesota.org/event/the-willow-10-and-20-miler/
LOCATION:Willow River State Park
CATEGORIES:10 Mile,20 Mile
ATTACH;FMTTYPE=image/png:https://run-minnesota.org/wp-content/uploads/2023/10/willow-run.png
END:VEVENT
END:VCALENDAR