BEGIN:VCALENDAR
VERSION:2.0
PRODID:-//Run Minnesota - ECPv6.15.17//NONSGML v1.0//EN
CALSCALE:GREGORIAN
METHOD:PUBLISH
X-WR-CALNAME:Run Minnesota
X-ORIGINAL-URL:https://run-minnesota.org
X-WR-CALDESC:Events for Run Minnesota
REFRESH-INTERVAL;VALUE=DURATION:PT1H
X-Robots-Tag:noindex
X-PUBLISHED-TTL:PT1H
BEGIN:VTIMEZONE
TZID:America/Chicago
BEGIN:DAYLIGHT
TZOFFSETFROM:-0600
TZOFFSETTO:-0500
TZNAME:CDT
DTSTART:20240310T080000
END:DAYLIGHT
BEGIN:STANDARD
TZOFFSETFROM:-0500
TZOFFSETTO:-0600
TZNAME:CST
DTSTART:20241103T070000
END:STANDARD
BEGIN:DAYLIGHT
TZOFFSETFROM:-0600
TZOFFSETTO:-0500
TZNAME:CDT
DTSTART:20250309T080000
END:DAYLIGHT
BEGIN:STANDARD
TZOFFSETFROM:-0500
TZOFFSETTO:-0600
TZNAME:CST
DTSTART:20251102T070000
END:STANDARD
BEGIN:DAYLIGHT
TZOFFSETFROM:-0600
TZOFFSETTO:-0500
TZNAME:CDT
DTSTART:20260308T080000
END:DAYLIGHT
BEGIN:STANDARD
TZOFFSETFROM:-0500
TZOFFSETTO:-0600
TZNAME:CST
DTSTART:20261101T070000
END:STANDARD
END:VTIMEZONE
BEGIN:VEVENT
DTSTART;TZID=America/Chicago:20251018T074500
DTEND;TZID=America/Chicago:20251018T120000
DTSTAMP:20260424T040803
CREATED:20250321T153640Z
LAST-MODIFIED:20250321T153640Z
UID:10003842-1760773500-1760788800@run-minnesota.org
SUMMARY:Bluff Color Fest
DESCRIPTION:Multiple distance trail race set in beautiful Red Wing during peak Fall colors. Race features pathways through pristine prairies\, closed forest glades\, and tight single track climbing a challenging sandstone ridge.
URL:https://run-minnesota.org/event/bluff-color-fest/
CATEGORIES:10 Mile,5k & 10k,Half Marathon
END:VEVENT
BEGIN:VEVENT
DTSTART;TZID=America/Chicago:20251011T080000
DTEND;TZID=America/Chicago:20251011T120000
DTSTAMP:20260424T040803
CREATED:20231028T193919Z
LAST-MODIFIED:20241030T005550Z
UID:10001543-1760169600-1760184000@run-minnesota.org
SUMMARY:Trout Brook 5 & 10 miler
DESCRIPTION:Prepare to tackle severe terrain at the Trout Brook 5 and 10-miler\, a challenging trail race through Willow River State Park. This race will take you off the wide-open park trails and onto various single-track trails that will test your skills. The course includes hills\, a stair climb\, and breathtaking views of a majestic waterfall. This race is perfect for experienced trail runners looking for a new challenge or anyone wanting to explore Willow River State Park’s beautiful\, less-traveled areas. Take advantage of this opportunity to push yourself out of your comfort zone and experience the thrill of a proper trail race. We hope to see you there!
URL:https://run-minnesota.org/event/trout-brook-5-10-miler/
LOCATION:Willow River State Park
CATEGORIES:10 Mile,5 Mile
ATTACH;FMTTYPE=image/jpeg:https://run-minnesota.org/wp-content/uploads/2023/10/18815177_10154713852246375_2283960369357932220_o.sig
END:VEVENT
BEGIN:VEVENT
DTSTART;TZID=America/Chicago:20251003T000000
DTEND;TZID=America/Chicago:20251005T235959
DTSTAMP:20260424T040803
CREATED:20250420T111927Z
LAST-MODIFIED:20250420T111927Z
UID:10003867-1759449600-1759708799@run-minnesota.org
SUMMARY:Medtronic Twin Cities Marathon Weekend
DESCRIPTION:Whether you wake up at 4 a.m. to lace up or spend the night before hand-lettering motivational signs\, the Medtronic Twin Cities Marathon Weekend has a place for you. There’s no other running event that weaves a winding path through two major cities\, circles around three urban lakes and travels across the Mississippi as fall leaves start to change. The enthusiasm of generations coming out to cheer on their neighbors\, toast mimosas and ring noisemakers mirrors how life-changing it feels to cross the finish line. Our Marathon Weekend connects us through the energy of movement\, bringing people of all walks of life together. \n​\nShared steps.\nShared celebration.
URL:https://run-minnesota.org/event/medtronic-twin-cities-marathon-weekend/
CATEGORIES:10 Mile,10K,5K,Half Marathon,Kids Run,Marathon
END:VEVENT
BEGIN:VEVENT
DTSTART;TZID=America/Chicago:20250921T080000
DTEND;TZID=America/Chicago:20250921T120000
DTSTAMP:20260424T040803
CREATED:20231028T193853Z
LAST-MODIFIED:20241030T005833Z
UID:10001542-1758441600-1758456000@run-minnesota.org
SUMMARY:In Yan Teopa 5 and 10-miler
DESCRIPTION:Join us for the In Yan Teopa trail race\, which will take you through the challenging terrain of Frontenac State Park. The race offers 5-mile and 10-mile courses\, which will take you through various landscapes\, including rolling prairies\, single-track trails\, and challenging climbs. Whether you’re a seasoned trail runner or new to the sport\, this race will surely provide an exciting and rewarding experience. Take advantage of this opportunity to test your endurance and take in the breathtaking views of Frontenac State Park. We hope to see you there!
URL:https://run-minnesota.org/event/in-yan-teopa-5-and-10-miler/
LOCATION:Frontenac State Park
CATEGORIES:10 Mile,5 Mile
ATTACH;FMTTYPE=image/jpeg:https://run-minnesota.org/wp-content/uploads/2023/10/IMG_1101.jpeg
END:VEVENT
BEGIN:VEVENT
DTSTART;TZID=America/Chicago:20250920T080000
DTEND;TZID=America/Chicago:20250920T120000
DTSTAMP:20260424T040803
CREATED:20231025T135156Z
LAST-MODIFIED:20241108T182314Z
UID:10001481-1758355200-1758369600@run-minnesota.org
SUMMARY:Log Run Half Marathon
DESCRIPTION:The Log Run Half Marathon\, 10 mile\, 10K and 5K is a superb\, mostly downhill race with a gentle decent ending in downtown Stillwater\, Minnesota. It’s been known as one of the fastest 10-mile courses around. Participants come back year-after-year for this one and it’s easy to see why; it’s THE course for personal records. Join us and become its next big fan.
URL:https://run-minnesota.org/event/log-run-half-marathon-2/
LOCATION:Stillwater\, Minnesota\, 55082\, United States
CATEGORIES:10 Mile,10K,5K,Half Marathon
ATTACH;FMTTYPE=image/jpeg:https://run-minnesota.org/wp-content/uploads/2023/10/log-run-button-2025.jpg
END:VEVENT
BEGIN:VEVENT
DTSTART;TZID=America/Chicago:20250920T000000
DTEND;TZID=America/Chicago:20250920T235959
DTSTAMP:20260424T040803
CREATED:20250321T180927Z
LAST-MODIFIED:20250321T180927Z
UID:10003733-1758326400-1758412799@run-minnesota.org
SUMMARY:Log Run Half Marathon
DESCRIPTION:The Log Run Half Marathon\, 10 mile\, 10K and 5K is a superb\, mostly downhill race with a gentle decent ending in downtown Stillwater\, Minnesota. It’s been known as one of the fastest 10-mile courses around. Participants come back year-after-year for this one and it’s easy to see why; it’s THE course for personal records. Join us and become its next big fan.
URL:https://run-minnesota.org/event/log-run-half-marathon-3/
CATEGORIES:10 Mile,10K,5K,Half Marathon
END:VEVENT
BEGIN:VEVENT
DTSTART;TZID=America/Chicago:20250906T100000
DTEND;TZID=America/Chicago:20250906T163000
DTSTAMP:20260424T040803
CREATED:20250321T153626Z
LAST-MODIFIED:20250321T153626Z
UID:10003821-1757152800-1757176200@run-minnesota.org
SUMMARY:Ruck Life Twin Cities
DESCRIPTION:We are excited to celebrate the 10th Anniversary of Ruck Life on September\, 6 2025\, at Anoka High School (across the tennis courts). This impactful event raises funds to support our mission of helping veterans build happier\, healthier lives. \nThis is a family-friendly event\, and leashed dogs are welcome to participate. Registration is now open\, with prices increasing after February. The cost is $79 for adults\, $35 for students\, and children ages 5 and under\, as well as volunteers\, can join for free. \nCheck-in begins at 10:30 AM at Mont du Lac Resort\, with the hike starting at noon. The course is a 2-mile loop\, and participants can complete up to 5 loops\, totaling 10 miles. Ruckers are encouraged to pack their rucksacks or backpacks with toiletries\, non-perishable food\, clothing\, and supplies to donate. These donations will be collected on the course and will benefit the Haven for Heroes.
URL:https://run-minnesota.org/event/ruck-life-twin-cities/
CATEGORIES:10 Mile,2 Mile,5 Mile,Other,Trail,Walk
END:VEVENT
BEGIN:VEVENT
DTSTART;TZID=America/Chicago:20250816T080000
DTEND;TZID=America/Chicago:20250816T120000
DTSTAMP:20260424T040803
CREATED:20250321T153905Z
LAST-MODIFIED:20250321T153905Z
UID:10003778-1755331200-1755345600@run-minnesota.org
SUMMARY:RBC Race For The Kids
DESCRIPTION:Join us for the RBC Race for the Kids on Saturday\, August 17 for a 3 Mile\, 5 Mile\, 10 Mile or Kids Run. This run is open to everyone no matter your fitness level. Enjoy the beautiful course along the Mississippi River. Race starts and finishes at the Guthrie Theater.  \nThe RBC Race for the Kids MN started in 2014 and supports the Ronald McDonald House Charities Upper Midwest. Each year this race along with its partners raises over $50\,000 to provide children with a home away from home when they are going through a crisis. \nThe RBC Race for the Kids is a global initiative supporting kids and youth around the world.
URL:https://run-minnesota.org/event/rbc-race-for-the-kids-2/
CATEGORIES:10 Mile,5 Mile,5K,Kids Run
END:VEVENT
BEGIN:VEVENT
DTSTART;TZID=America/Chicago:20250628T070000
DTEND;TZID=America/Chicago:20250628T110000
DTSTAMP:20260424T040803
CREATED:20231025T135056Z
LAST-MODIFIED:20241108T182134Z
UID:10001479-1751094000-1751108400@run-minnesota.org
SUMMARY:Lift Bridge Road Race
DESCRIPTION:The Lift Bridge Road Race is based at Lift Bridge Brewing Company in Stillwater – the event’s title sponsor. The 10-mile\, 10K and 5K courses show off the best of historic residential Stillwater and its scenic lakes and paved trail system. All three distances share a common finish at the brewery’s Tower Drive location. The 10 Mile course is a loop starting and ending at the brewery. The 10K and 5K courses start at Washington Park providing plenty of space for runners prepping for the race. The finish will be a festive atmosphere at the brewery to celebrate together.
URL:https://run-minnesota.org/event/lift-bridge-road-race/
LOCATION:Stillwater\, Minnesota\, 55082\, United States
CATEGORIES:10 Mile,10K,5K,Half Marathon
ATTACH;FMTTYPE=image/jpeg:https://run-minnesota.org/wp-content/uploads/2023/10/lift-bridge-button-2025.jpg
END:VEVENT
BEGIN:VEVENT
DTSTART;TZID=America/Chicago:20250628T000000
DTEND;TZID=America/Chicago:20250628T235959
DTSTAMP:20260424T040803
CREATED:20250321T180914Z
LAST-MODIFIED:20250321T180914Z
UID:10003730-1751068800-1751155199@run-minnesota.org
SUMMARY:Lift Bridge Road Races
DESCRIPTION:NEW in 2025 – a half marathon distance! The Lift Bridge Road Race is based at Lift Bridge Brewing Company in Stillwater – the event’s title sponsor. The half\, 10-mile\, 10K and 5K courses show off the best of residential Stillwater\, its scenic lakes\, paved trails and historic Victorian mansions. All distances share a common finish at the brewery’s Tower Drive location. The finish is a festive atmosphere at the brewery to celebrate together.
URL:https://run-minnesota.org/event/lift-bridge-road-races/
CATEGORIES:10 Mile,10K,5K,Half Marathon
END:VEVENT
BEGIN:VEVENT
DTSTART;TZID=America/Chicago:20250531T103000
DTEND;TZID=America/Chicago:20250531T160000
DTSTAMP:20260424T040803
CREATED:20250321T153554Z
LAST-MODIFIED:20250321T153554Z
UID:10003844-1748687400-1748707200@run-minnesota.org
SUMMARY:Ruck Life Duluth
DESCRIPTION:We are excited to celebrate the 10th Anniversary of Ruck Life on May 31\, 2025\, at Mont du Lac Resort. This impactful event raises funds to support our mission of helping veterans build happier\, healthier lives. \nThis is a family-friendly event\, and leashed dogs are welcome to participate. Registration is now open\, with prices increasing after February. The cost is $79 for adults\, $35 for students\, and children ages 5 and under\, as well as volunteers\, can join for free. \nCheck-in begins at 10:30 AM at Mont du Lac Resort\, with the hike starting at noon. The course is a 2-mile loop\, and participants can complete up to 5 loops\, totaling 10 miles. Ruckers are encouraged to pack their rucksacks or backpacks with toiletries\, non-perishable food\, clothing\, and supplies to donate. These donations will be collected at the end of the course and will benefit the DAV of Carlton County Chapter 18.
URL:https://run-minnesota.org/event/ruck-life-duluth/
CATEGORIES:10 Mile,2 Mile,Trail
END:VEVENT
BEGIN:VEVENT
DTSTART;TZID=America/Chicago:20250531T073000
DTEND;TZID=America/Chicago:20250531T120000
DTSTAMP:20260424T040803
CREATED:20250321T153929Z
LAST-MODIFIED:20250321T153929Z
UID:10003776-1748676600-1748692800@run-minnesota.org
SUMMARY:Human Powered Health Run
DESCRIPTION:Mark your calendar for May 31\, 2025\, and run in St. Paul on a beautiful route along the Mississippi River. Select the distance that is right for you. There is a race for everyone whether this is your first 5K or you are training for a marathon\, including a skate race. Use our training plans to help you achieve your goals. Run your best in 2025!
URL:https://run-minnesota.org/event/human-powered-health-run/
CATEGORIES:10 Mile,11 Mile,5 Mile,5K,Half Marathon,Kids Run
END:VEVENT
BEGIN:VEVENT
DTSTART;TZID=America/Chicago:20250531T073000
DTEND;TZID=America/Chicago:20250531T110000
DTSTAMP:20260424T040803
CREATED:20250420T111106Z
LAST-MODIFIED:20250420T111106Z
UID:10003872-1748676600-1748689200@run-minnesota.org
SUMMARY:Human Powered Health Half Marathon
DESCRIPTION:Mark your calendars on May 31st for the 3rd Annual Human Powered Health Half Marathon in St. Paul! Run this scenic course along the Mississippi River. \nWhether you are training for your first 5K or looking to do a full 13.1 miles\, there’s a distance for every runner. \nRegistration is open\, and a portion of your race entry includes a donation to support the Minnesota Junior Cycling Association (MNJRC).
URL:https://run-minnesota.org/event/human-powered-health-half-marathon-2/
CATEGORIES:10 Mile,5 Mile,5K,Half Marathon,Kids Run
END:VEVENT
BEGIN:VEVENT
DTSTART;TZID=America/Chicago:20250531T070000
DTEND;TZID=America/Chicago:20250531T120000
DTSTAMP:20260424T040803
CREATED:20250504T162219Z
LAST-MODIFIED:20250504T162219Z
UID:10003880-1748674800-1748692800@run-minnesota.org
SUMMARY:Mom's Mom's Marathon Supported Training Run
DESCRIPTION:Join us May 31\, 2025! Gear West offers you\, and your friends\, a 10 – 20 mile supported trail run for:\n• Runners desiring a Spring Marathon training option (guess the event !) three weeks before your Mom’s Mom marathon\n• Triathletes\, a pre Half or Full Ironman Training Run (you can always bike after and swim in Long Lake prior!) or\,\n• Workout lovers who embrace an early morning calorie burner run burn\nThis May food + drink supported run will leave the Gear West Run and Ski building between 7-8 am and take you on the relatively flat but extremely scenic paved Dakota Trail and the smooth graveled Luce Line Trail. Runners have a marked turn-around at 10 miles and 20 miles but of course any length run can be chosen. \nThe most fun? Hot fresh pancakes await your finish under the Gear West timber frame! Bring a change of clothing\, and if so inclined\, a $10.00 donation. Then treat yourself to pancakes\, drinks and conversation while your legs recuperate. Check below for details.\nWe hope to see you!\nThe Gear West Team. \nSchedule: \nMay 31\, 2025 \nOpen Start: 7am-8am Gear West Parking Lot \nAid Stations will be maintained from 7:45 to Noon \nPancakes just like GRANDMA makes… will be flipping from\n9am-Noon.  \nAid Stations \nNutrition provided by Untapped* the better Maple Fuel! \nSyrup\, Waffles\, Electrolyte Drink\, Water \nRegister Now!
URL:https://run-minnesota.org/event/moms-moms-marathon-supported-training-run/
CATEGORIES:10 Mile,20 Mile,Half Marathon,Marathon
END:VEVENT
BEGIN:VEVENT
DTSTART;TZID=America/Chicago:20250517T083000
DTEND;TZID=America/Chicago:20250517T130000
DTSTAMP:20260424T040803
CREATED:20250203T121440Z
LAST-MODIFIED:20250203T121440Z
UID:10003824-1747470600-1747486800@run-minnesota.org
SUMMARY:PNC Women On The Run
DESCRIPTION:When we run as women\, we don’t just move forward. We bring the energy. We defy the cliché. We question the expected. Miles don’t matter—it’s the feeling that counts. Whether it’s high-fiving a new mom as she crosses the finish line or cheering along a friend you met on the course\, the power we generate is bigger than any runner’s high. It’s the power to redraw the map\, and fuel us past any finish line\, together. So join us and find your place with people who make you bloom. \n​ \nWomen. \nWe run the cities.
URL:https://run-minnesota.org/event/pnc-women-on-the-run/
CATEGORIES:10 Mile,5k & 10k
END:VEVENT
BEGIN:VEVENT
DTSTART;TZID=America/Chicago:20250503T070000
DTEND;TZID=America/Chicago:20250503T120000
DTSTAMP:20260424T040803
CREATED:20231028T200254Z
LAST-MODIFIED:20250811T143946Z
UID:10001541-1746255600-1746273600@run-minnesota.org
SUMMARY:The Willow 10 and 20-miler
DESCRIPTION:Join us for the Willow Trail Race\, where you can choose a ten-mile or twenty-mile course! The twenty-mile race begins at 7:00 a.m. and consists of two loops through Willow River State Park\, while the ten-mile race starts at 8:00 a.m. and consists of one loop. The course will take you on a grass and gravel trail through the beautiful Willow River State Park\, with diverse terrains and breathtaking views to keep you motivated throughout the race. Whether you are an experienced runner or a beginner\, this is an excellent opportunity to challenge yourself and experience the park’s beauty. We hope to see you there!
URL:https://run-minnesota.org/event/the-willow-10-and-20-miler/
LOCATION:Willow River State Park
CATEGORIES:10 Mile,20 Mile
ATTACH;FMTTYPE=image/png:https://run-minnesota.org/wp-content/uploads/2023/10/willow-run.png
END:VEVENT
END:VCALENDAR